BEGIN:VCALENDAR
VERSION:2.0
PRODID:-//Penobscot Marine Museum - ECPv5.8.0//NONSGML v1.0//EN
CALSCALE:GREGORIAN
METHOD:PUBLISH
X-WR-CALNAME:Penobscot Marine Museum
X-ORIGINAL-URL:https://penobscotmarinemuseum.org
X-WR-CALDESC:Events for Penobscot Marine Museum
BEGIN:VTIMEZONE
TZID:America/New_York
BEGIN:DAYLIGHT
TZOFFSETFROM:-0500
TZOFFSETTO:-0400
TZNAME:EDT
DTSTART:20140309T070000
END:DAYLIGHT
BEGIN:STANDARD
TZOFFSETFROM:-0400
TZOFFSETTO:-0500
TZNAME:EST
DTSTART:20141102T060000
END:STANDARD
END:VTIMEZONE
BEGIN:VEVENT
DTSTART;TZID=America/New_York:20141004T090000
DTEND;TZID=America/New_York:20141004T120000
DTSTAMP:20210706T210447
CREATED:20140923T184104Z
LAST-MODIFIED:20140923T184104Z
UID:2632-1412413200-1412424000@penobscotmarinemuseum.org
SUMMARY:2014 Tonka Truck Restoration Project for Fling Into Fall Celebration
DESCRIPTION:As part of Searsport’s annual Fling Into Fall celebration on October 10 and 11\, Searsport resident Joe Plummer has scheduled Tonka truck repair workshops with for children who would like to fix up a truck. The restored trucks will be displayed in Mosman Park at Fling Into Fall and trophies and prizes will be awarded by age group for Best Restoration. Tonka truck repair workshops will be held at Searsport Motor Company\, 315 E. Main St. in Searsport on Saturday\, September 27\, 9:00 am to noon\, and at Searsport Automotive and Tires\, 357 W. Main St. on October 4\, 9:00 am to noon. Contact Joe Plummer at 207-548-2834 if you would like to register for the project and receive a truck to repair. \n \n“Last year we had forty-five children sign up\,” says Joe Plummer. “When the kids come to the workshops\, they get to work with professionals and use a sandblaster and paint. It is very exciting for them. We have both boys and girls repairing trucks. We are grateful to Searsport Automotive and Tires and Searsport Motor Company for donating their time and materials to the project.” \nThe Tonka Truck Restoration Project is part of Searsport’s annual autumn celebration Fling Into Fall\, which is on Friday and Saturday\, October 10th and 11th. There will be a parade\, music\, an antique car show\, a craft show\, delicious food\, a scarecrow contest\, face painting\, pumpkin carving\, an art exhibit and more. The parade begins at 11:00 am on Saturday and the Antique Car Show begins at 11:30 am at Mosman Park. The Tonka Trucks will be on display during the car show and judging will be at 2:30 pm. \nFor more information on the Tonka Truck Restoration Project call Joe Plummer at 207-548-2834.
URL:https://penobscotmarinemuseum.org/event-single/2014-tonka-truck-restoration-project-for-fling-into-fall-celebration-2/
CATEGORIES:Special Event
ATTACH;FMTTYPE=image/jpeg:https://penobscotmarinemuseum.org/welcome/wp-content/uploads/2014/09/Truck.jpg
ORGANIZER;CN="Penobscot%20Marine%20Museum":MAILTO:jganskop@pmm-maine.org
END:VEVENT
END:VCALENDAR