BEGIN:VCALENDAR
VERSION:2.0
PRODID:-//Penobscot Marine Museum - ECPv6.15.20//NONSGML v1.0//EN
CALSCALE:GREGORIAN
METHOD:PUBLISH
X-WR-CALNAME:Penobscot Marine Museum
X-ORIGINAL-URL:https://penobscotmarinemuseum.org
X-WR-CALDESC:Events for Penobscot Marine Museum
REFRESH-INTERVAL;VALUE=DURATION:PT1H
X-Robots-Tag:noindex
X-PUBLISHED-TTL:PT1H
BEGIN:VTIMEZONE
TZID:America/New_York
BEGIN:DAYLIGHT
TZOFFSETFROM:-0500
TZOFFSETTO:-0400
TZNAME:EDT
DTSTART:20130310T070000
END:DAYLIGHT
BEGIN:STANDARD
TZOFFSETFROM:-0400
TZOFFSETTO:-0500
TZNAME:EST
DTSTART:20131103T060000
END:STANDARD
BEGIN:DAYLIGHT
TZOFFSETFROM:-0500
TZOFFSETTO:-0400
TZNAME:EDT
DTSTART:20140309T070000
END:DAYLIGHT
BEGIN:STANDARD
TZOFFSETFROM:-0400
TZOFFSETTO:-0500
TZNAME:EST
DTSTART:20141102T060000
END:STANDARD
BEGIN:DAYLIGHT
TZOFFSETFROM:-0500
TZOFFSETTO:-0400
TZNAME:EDT
DTSTART:20150308T070000
END:DAYLIGHT
BEGIN:STANDARD
TZOFFSETFROM:-0400
TZOFFSETTO:-0500
TZNAME:EST
DTSTART:20151101T060000
END:STANDARD
END:VTIMEZONE
BEGIN:VEVENT
DTSTART;TZID=America/New_York:20140808T130000
DTEND;TZID=America/New_York:20140808T140000
DTSTAMP:20260424T185936
CREATED:20140518T032738Z
LAST-MODIFIED:20140518T032738Z
UID:2149-1407502800-1407506400@penobscotmarinemuseum.org
SUMMARY:Children’s Program: Reading and Art
DESCRIPTION:Friday\, August 8\, 1:00 pm\nChildren’s Program: Reading and Art\nJoin author Lucinda Hathaway for a fun filled afternoon of high seas adventure and travel-inspired art.  She will lead a workshop teaching children how to make a watercolor travel journal\, and she will read from her two children’s sailing adventure books\, one of which has a chapter set in Searsport!\nPMM’s Peapod.  Free with PMM admission.  \n  \nLucinda Hathaway visits Edna Drinkwater School\, 5-29-12 from Fast Track Video on Vimeo.
URL:https://penobscotmarinemuseum.org/event-single/childrens-program-reading-and-art/
LOCATION:PMM’s Peapod\, Church St.\, Searsport\, 04974\, United States
CATEGORIES:Children’s Program
ATTACH;FMTTYPE=image/jpeg:https://penobscotmarinemuseum.org/wp-content/uploads/2014/05/t600-Round-the-World-cover008.jpg
ORGANIZER;CN="Penobscot Marine Museum":MAILTO:jganskop@pmm-maine.org
END:VEVENT
END:VCALENDAR