BEGIN:VCALENDAR
VERSION:2.0
PRODID:-//Penobscot Marine Museum - ECPv6.15.20//NONSGML v1.0//EN
CALSCALE:GREGORIAN
METHOD:PUBLISH
X-WR-CALNAME:Penobscot Marine Museum
X-ORIGINAL-URL:https://penobscotmarinemuseum.org
X-WR-CALDESC:Events for Penobscot Marine Museum
REFRESH-INTERVAL;VALUE=DURATION:PT1H
X-Robots-Tag:noindex
X-PUBLISHED-TTL:PT1H
BEGIN:VTIMEZONE
TZID:America/New_York
BEGIN:DAYLIGHT
TZOFFSETFROM:-0500
TZOFFSETTO:-0400
TZNAME:EDT
DTSTART:20140309T070000
END:DAYLIGHT
BEGIN:STANDARD
TZOFFSETFROM:-0400
TZOFFSETTO:-0500
TZNAME:EST
DTSTART:20141102T060000
END:STANDARD
BEGIN:DAYLIGHT
TZOFFSETFROM:-0500
TZOFFSETTO:-0400
TZNAME:EDT
DTSTART:20150308T070000
END:DAYLIGHT
BEGIN:STANDARD
TZOFFSETFROM:-0400
TZOFFSETTO:-0500
TZNAME:EST
DTSTART:20151101T060000
END:STANDARD
BEGIN:DAYLIGHT
TZOFFSETFROM:-0500
TZOFFSETTO:-0400
TZNAME:EDT
DTSTART:20160313T070000
END:DAYLIGHT
BEGIN:STANDARD
TZOFFSETFROM:-0400
TZOFFSETTO:-0500
TZNAME:EST
DTSTART:20161106T060000
END:STANDARD
END:VTIMEZONE
BEGIN:VEVENT
DTSTART;TZID=America/New_York:20150924T190000
DTEND;TZID=America/New_York:20150924T210000
DTSTAMP:20260424T155437
CREATED:20150520T165943Z
LAST-MODIFIED:20150522T182733Z
UID:2976-1443121200-1443128400@penobscotmarinemuseum.org
SUMMARY:Close to the Land & Close to the Sea: The Photography of Kosti Ruohomaa
DESCRIPTION:Thursday\, September 24\, 7:00 pm in PMM’s Douglas and Margaret Carver Memorial Art Gallery\, 11 Church Street   \nMany legends surround the Finnish-American photographer Kosti Ruohomaa\, the award-winning photo journalist who shot iconic portraits of working Americans which appeared in LIFE\, National Geographic\, and other publications from 1940 to 1960. \nLecturer: Deanna S. Bonner-Ganter\, Curator of Photography\, Art\, and Archives\, Maine State Museum\, her biography of Ruohomaa will soon be published by Down East Books.\nCost: $8; $5 Members \n\n\n    Buy Tickets Online
URL:https://penobscotmarinemuseum.org/event-single/close-to-the-land-close-to-the-sea-the-photography-of-kosti-ruohomaa/
LOCATION:Penobscot Marine Museum’s Douglas and Margaret Carver Memorial Art Gallery\, 11 Church St.\, Searsport\, 04974\, United States
CATEGORIES:Thursday Night Film and Lecture Series
ATTACH;FMTTYPE=image/jpeg:https://penobscotmarinemuseum.org/wp-content/uploads/2015/05/Twenty-Best-Poster-Link.jpg
ORGANIZER;CN="Penobscot Marine Museum":MAILTO:jganskop@pmm-maine.org
END:VEVENT
END:VCALENDAR