BEGIN:VCALENDAR
VERSION:2.0
PRODID:-//Penobscot Marine Museum - ECPv6.15.20//NONSGML v1.0//EN
CALSCALE:GREGORIAN
METHOD:PUBLISH
X-WR-CALNAME:Penobscot Marine Museum
X-ORIGINAL-URL:https://penobscotmarinemuseum.org
X-WR-CALDESC:Events for Penobscot Marine Museum
REFRESH-INTERVAL;VALUE=DURATION:PT1H
X-Robots-Tag:noindex
X-PUBLISHED-TTL:PT1H
BEGIN:VTIMEZONE
TZID:UTC
BEGIN:STANDARD
TZOFFSETFROM:+0000
TZOFFSETTO:+0000
TZNAME:UTC
DTSTART:20150101T000000
END:STANDARD
END:VTIMEZONE
BEGIN:VEVENT
DTSTART;TZID=UTC:20160714T080000
DTEND;TZID=UTC:20160816T170000
DTSTAMP:20260424T155437
CREATED:20160406T210901Z
LAST-MODIFIED:20160622T024436Z
UID:4116-1468483200-1471366800@penobscotmarinemuseum.org
SUMMARY:Communicating Maine: Maine Women Authors Of The 1950’S
DESCRIPTION:At Waldo County libraries throughout the month of August\nAdmission free. \nPenobscot Marine Museum is collaborating with Waldo County libraries offering book discussions for the month of August on Maine Women Authors of the 1950s and how they communicate Maine’s sense of place.  Each library will focus on a specific author to read and discuss.  \nBook Discussions: 5 Authors\, 5 Libraries\nJuly 14th\, 6:00pm at Searsmont Town Library: Contentment Cove by Miriam Colwell\nJuly 21\, 6:00pm at Winterport Memorial Library: The Day Before Winter by Elisabeth Ogilvie\nAugust 3rd\, 7:00pm at Lincolnville Community Library: Selections by Louise Dickinson Rich\nAugust 11th\, 7:00 at Carver Memorial Library: Windswept by Mary Ellen Chase\nAugust 16th\, 6:30pm at Belfast Free Library: Spoonhandle by Ruth Moore \nFor more information on these book discussions\, please contact Carver Memorial Library 207-548-2303\, http://www.carver.lib.me.us/
URL:https://penobscotmarinemuseum.org/event-single/communicating-maine-maine-women-authors-of-the-1950s/
LOCATION:Waldo County Libraries
CATEGORIES:Maine Library Book Discussion Groups
ATTACH;FMTTYPE=image/jpeg:https://penobscotmarinemuseum.org/wp-content/uploads/2016/04/Women-Authors-1950s.jpg
ORGANIZER;CN="Penobscot Marine Museum":MAILTO:jganskop@pmm-maine.org
END:VEVENT
END:VCALENDAR