BEGIN:VCALENDAR
VERSION:2.0
PRODID:-//Penobscot Marine Museum - ECPv5.8.0//NONSGML v1.0//EN
CALSCALE:GREGORIAN
METHOD:PUBLISH
X-WR-CALNAME:Penobscot Marine Museum
X-ORIGINAL-URL:https://penobscotmarinemuseum.org
X-WR-CALDESC:Events for Penobscot Marine Museum
BEGIN:VTIMEZONE
TZID:America/New_York
BEGIN:DAYLIGHT
TZOFFSETFROM:-0500
TZOFFSETTO:-0400
TZNAME:EDT
DTSTART:20180311T070000
END:DAYLIGHT
BEGIN:STANDARD
TZOFFSETFROM:-0400
TZOFFSETTO:-0500
TZNAME:EST
DTSTART:20181104T060000
END:STANDARD
END:VTIMEZONE
BEGIN:VEVENT
DTSTART;TZID=America/New_York:20180711T110000
DTEND;TZID=America/New_York:20180711T140000
DTSTAMP:20210716T030511
CREATED:20180329T114007Z
LAST-MODIFIED:20180709T172632Z
UID:5498-1531306800-1531317600@penobscotmarinemuseum.org
SUMMARY:E.B. White’s Birthday and Stuart Little Model Race
DESCRIPTION:July 11; 11am-2pm\nE.B. White’s Birthday and Stuart Little Model Race\nModel Pond\nCost: Free with Museum Admission\nFree admission all day for children 17 and under. \nCelebrate E.B. White’s 119th birthday with us! There will be cake and a chance to make a clothespin Stuart Little and model boat to sail on our pond and take home afterwards. PMM is home to  E.B. White’s sailing dinghy the FAINT ENDEAVOR.
URL:https://penobscotmarinemuseum.org/event-single/e-b-whites-birthday-and-stuart-little-model-race/
LOCATION:PMM Model Pond\, 2 Church St.\, Searsport\, ME\, 04974\, United States
CATEGORIES:Family Event
ATTACH;FMTTYPE=image/jpeg:https://penobscotmarinemuseum.org/welcome/wp-content/uploads/2018/03/7-11.jpg
ORGANIZER;CN="Penobscot%20Marine%20Museum":MAILTO:jganskop@pmm-maine.org
END:VEVENT
END:VCALENDAR