BEGIN:VCALENDAR
VERSION:2.0
PRODID:-//Penobscot Marine Museum - ECPv6.15.20//NONSGML v1.0//EN
CALSCALE:GREGORIAN
METHOD:PUBLISH
X-WR-CALNAME:Penobscot Marine Museum
X-ORIGINAL-URL:https://penobscotmarinemuseum.org
X-WR-CALDESC:Events for Penobscot Marine Museum
REFRESH-INTERVAL;VALUE=DURATION:PT1H
X-Robots-Tag:noindex
X-PUBLISHED-TTL:PT1H
BEGIN:VTIMEZONE
TZID:America/New_York
BEGIN:DAYLIGHT
TZOFFSETFROM:-0500
TZOFFSETTO:-0400
TZNAME:EDT
DTSTART:20140309T070000
END:DAYLIGHT
BEGIN:STANDARD
TZOFFSETFROM:-0400
TZOFFSETTO:-0500
TZNAME:EST
DTSTART:20141102T060000
END:STANDARD
BEGIN:DAYLIGHT
TZOFFSETFROM:-0500
TZOFFSETTO:-0400
TZNAME:EDT
DTSTART:20150308T070000
END:DAYLIGHT
BEGIN:STANDARD
TZOFFSETFROM:-0400
TZOFFSETTO:-0500
TZNAME:EST
DTSTART:20151101T060000
END:STANDARD
BEGIN:DAYLIGHT
TZOFFSETFROM:-0500
TZOFFSETTO:-0400
TZNAME:EDT
DTSTART:20160313T070000
END:DAYLIGHT
BEGIN:STANDARD
TZOFFSETFROM:-0400
TZOFFSETTO:-0500
TZNAME:EST
DTSTART:20161106T060000
END:STANDARD
END:VTIMEZONE
BEGIN:VEVENT
DTSTART;TZID=America/New_York:20150812T130000
DTEND;TZID=America/New_York:20150812T150000
DTSTAMP:20260424T161027
CREATED:20150520T194022Z
LAST-MODIFIED:20150522T184138Z
UID:2999-1439384400-1439391600@penobscotmarinemuseum.org
SUMMARY:Hand-painting Black & White Photographs
DESCRIPTION:Wednesday\, August 5\, 1:00 to 3:00 pm\nWednesday\, August 12\, 1:00 to 3:00 pm \nCreate an extraordinary work of art by transforming your black and white photographs using the historic technique of hand-painting. This intensive workshop explores traditional and contemporary methods for hand-painting. Photographs with be provided by the museum or bring your own B&W images\, painting materials will be provided. \nArtist: Liv Kristin Robinson is a Belfast area fine art photographer\, her images are digitally created from start to finish as dye-infused metal prints.\nCost: $10\, $7 members \n\n\n    Buy Tickets Online\n    \n \n     \nFine art photography by Liv Kristin Robinson
URL:https://penobscotmarinemuseum.org/event-single/hand-painting-black-white-photographs-2/
LOCATION:Penobscot Marine Museum\, 2 Church Street\, Searsport\, 04974\, United States
CATEGORIES:Adult Classes
ATTACH;FMTTYPE=image/jpeg:https://penobscotmarinemuseum.org/wp-content/uploads/2015/05/Liv-Kristen-Robinson.jpg
ORGANIZER;CN="Penobscot Marine Museum":MAILTO:jganskop@pmm-maine.org
END:VEVENT
END:VCALENDAR