BEGIN:VCALENDAR
VERSION:2.0
PRODID:-//Penobscot Marine Museum - ECPv6.15.20//NONSGML v1.0//EN
CALSCALE:GREGORIAN
METHOD:PUBLISH
X-WR-CALNAME:Penobscot Marine Museum
X-ORIGINAL-URL:https://penobscotmarinemuseum.org
X-WR-CALDESC:Events for Penobscot Marine Museum
REFRESH-INTERVAL;VALUE=DURATION:PT1H
X-Robots-Tag:noindex
X-PUBLISHED-TTL:PT1H
BEGIN:VTIMEZONE
TZID:UTC
BEGIN:STANDARD
TZOFFSETFROM:+0000
TZOFFSETTO:+0000
TZNAME:UTC
DTSTART:20150101T000000
END:STANDARD
END:VTIMEZONE
BEGIN:VEVENT
DTSTART;TZID=UTC:20160616T140000
DTEND;TZID=UTC:20160616T150000
DTSTAMP:20260424T155304
CREATED:20160406T152529Z
LAST-MODIFIED:20160406T152529Z
UID:4094-1466085600-1466089200@penobscotmarinemuseum.org
SUMMARY:Historic Maine: A Postcard View
DESCRIPTION:With PMM Photo Archivist Kevin Johnson  \nThursday\, June 16\, 2 pm\, Main Street Gallery\nAdmission free with museum admission. \nLearn interesting behind the scenes stories about our postcard collection in this in-depth look at Historic Maine: A Postcard View.  The postcard craze in America\, roughly 1905 to 1915\, prompted the founding of many postcard companies.  In Maine\, photographers sought out small towns and rural life\, creating a highly personal and intimate portrait of our state.
URL:https://penobscotmarinemuseum.org/event-single/historic-maine-a-postcard-view/
LOCATION:Main Street Gallery\, 40 East Main Street\, Searsport\, 04974\, United States
CATEGORIES:Gallery Tour
ATTACH;FMTTYPE=image/jpeg:https://penobscotmarinemuseum.org/wp-content/uploads/2014/05/Kevin-Johnson-2014-headshot.jpg
ORGANIZER;CN="Penobscot Marine Museum":MAILTO:jganskop@pmm-maine.org
END:VEVENT
END:VCALENDAR