BEGIN:VCALENDAR
VERSION:2.0
PRODID:-//Penobscot Marine Museum - ECPv6.15.20//NONSGML v1.0//EN
CALSCALE:GREGORIAN
METHOD:PUBLISH
X-WR-CALNAME:Penobscot Marine Museum
X-ORIGINAL-URL:https://penobscotmarinemuseum.org
X-WR-CALDESC:Events for Penobscot Marine Museum
REFRESH-INTERVAL;VALUE=DURATION:PT1H
X-Robots-Tag:noindex
X-PUBLISHED-TTL:PT1H
BEGIN:VTIMEZONE
TZID:UTC
BEGIN:STANDARD
TZOFFSETFROM:+0000
TZOFFSETTO:+0000
TZNAME:UTC
DTSTART:20150101T000000
END:STANDARD
END:VTIMEZONE
BEGIN:VEVENT
DTSTART;TZID=UTC:20161015T170000
DTEND;TZID=UTC:20161015T190000
DTSTAMP:20260424T161018
CREATED:20160406T221527Z
LAST-MODIFIED:20160629T182413Z
UID:4126-1476550800-1476558000@penobscotmarinemuseum.org
SUMMARY:Last Night At The Museum
DESCRIPTION:Sat\, Oct 15\, 5 pm to 7 pm\, tours every 15 minutes\, Fowler-True-Ross Sea Captain’s House\nTickets $5 adults\, $3 children.  \nBring your flashlight for a family-friendly spooky good time.  Hear the hair-raising stories and meet the spirits of sea captains lost at sea\, the widows waiting for the husbands to return\, and young boys who left as crew never to return.  Walk through the Sea Captain’s House one last time before the night watchmen close it up for the winter.   \nPurchase Tickets Online
URL:https://penobscotmarinemuseum.org/event-single/last-night-at-the-museum/
LOCATION:Merithew and Fowler True Ross Houses\, Church St.\, Searsport\, 04974\, United States
CATEGORIES:Family Event
ATTACH;FMTTYPE=image/jpeg:https://penobscotmarinemuseum.org/wp-content/uploads/2016/04/Last-night.jpg
ORGANIZER;CN="Penobscot Marine Museum":MAILTO:jganskop@pmm-maine.org
END:VEVENT
END:VCALENDAR