BEGIN:VCALENDAR
VERSION:2.0
PRODID:-//Penobscot Marine Museum - ECPv6.15.20//NONSGML v1.0//EN
CALSCALE:GREGORIAN
METHOD:PUBLISH
X-WR-CALNAME:Penobscot Marine Museum
X-ORIGINAL-URL:https://penobscotmarinemuseum.org
X-WR-CALDESC:Events for Penobscot Marine Museum
REFRESH-INTERVAL;VALUE=DURATION:PT1H
X-Robots-Tag:noindex
X-PUBLISHED-TTL:PT1H
BEGIN:VTIMEZONE
TZID:UTC
BEGIN:STANDARD
TZOFFSETFROM:+0000
TZOFFSETTO:+0000
TZNAME:UTC
DTSTART:20150101T000000
END:STANDARD
END:VTIMEZONE
BEGIN:VEVENT
DTSTART;TZID=UTC:20160922T190000
DTEND;TZID=UTC:20160922T203000
DTSTAMP:20260424T161029
CREATED:20160406T213832Z
LAST-MODIFIED:20160406T213832Z
UID:4123-1474570800-1474576200@penobscotmarinemuseum.org
SUMMARY:Maine On Glass\, Book Signing & Talk
DESCRIPTION:With authors Earle Shettleworth\, Jr.\, William H. Bunting\, and Kevin Johnson\nThursday\, September 22\, 7 pm\, Carver Memorial Gallery\, 11 Church St.\nAdmission free. \nHear fascinating in-depth historical commentary on the Maine photographs from Penobscot Marine Museum’s Eastern Illustrating & Publishing Company Collection.  Maine State Historian Earle Shettleworth\, Jr.\, Maine historian and author William H. Bunting\, and Penobscot Marine Museum Photo Archivist Kevin Johnson collaborated on this book about the unique Belfast-based postcard company of the late 19th and early 20th centuries.   Maine On Glass is published by Tilbury House.
URL:https://penobscotmarinemuseum.org/event-single/maine-on-glass-book-signing-talk/
LOCATION:Penobscot Marine Museum’s Douglas and Margaret Carver Memorial Art Gallery\, 11 Church St.\, Searsport\, 04974\, United States
CATEGORIES:Talk and Book Signing
ATTACH;FMTTYPE=image/jpeg:https://penobscotmarinemuseum.org/wp-content/uploads/2013/01/EIP_Collections-square.jpg
ORGANIZER;CN="Penobscot Marine Museum":MAILTO:jganskop@pmm-maine.org
END:VEVENT
END:VCALENDAR