BEGIN:VCALENDAR
VERSION:2.0
PRODID:-//Penobscot Marine Museum - ECPv6.15.20//NONSGML v1.0//EN
CALSCALE:GREGORIAN
METHOD:PUBLISH
X-WR-CALNAME:Penobscot Marine Museum
X-ORIGINAL-URL:https://penobscotmarinemuseum.org
X-WR-CALDESC:Events for Penobscot Marine Museum
REFRESH-INTERVAL;VALUE=DURATION:PT1H
X-Robots-Tag:noindex
X-PUBLISHED-TTL:PT1H
BEGIN:VTIMEZONE
TZID:UTC
BEGIN:STANDARD
TZOFFSETFROM:+0000
TZOFFSETTO:+0000
TZNAME:UTC
DTSTART:20150101T000000
END:STANDARD
END:VTIMEZONE
BEGIN:VEVENT
DTSTART;TZID=UTC:20160430T110000
DTEND;TZID=UTC:20160430T120000
DTSTAMP:20260424T155436
CREATED:20160406T022454Z
LAST-MODIFIED:20160406T223220Z
UID:4085-1462014000-1462017600@penobscotmarinemuseum.org
SUMMARY:Maine Or New Ireland: The Penobscot Expedition Of 1779. Is My Busk Crooked? Women’s Wear Daily
DESCRIPTION:With Ray and Patricia Eastabrook\nSaturday\, April 30\, 11 am & 11:30 am\, Museum Library\, 11 Church St.\nAdmission is free.  All are welcome. \nThis Community Learning Event is part of Game Loft’s Coming of Age in America program which teaches Maine and U.S. history to high school students through role-play.  These two talks provide historical background for The Game Loft’s two-day Community Learning Event\, Issues On Trial: The Court Martial Of General Peleg Wadsworth about the ill-fated Penobscot Expedition of 1779.  Events over two days include dinner\, dancing\, a street fair\, discussion groups\, and role-play in Belfast and Searsport.  For more information call 207-338-6447 or go to www.thegameloft.org.
URL:https://penobscotmarinemuseum.org/event-single/maine-or-new-ireland-the-penobscot-expedition-of-1779-is-my-busk-crooked-womens-wear-daily/
LOCATION:The Game Loft\, 78A Main St\, Belfast\, ME\,  04915\, United States
CATEGORIES:Presentation
ATTACH;FMTTYPE=image/jpeg:https://penobscotmarinemuseum.org/wp-content/uploads/2016/04/Game-Loft.jpg
END:VEVENT
END:VCALENDAR