BEGIN:VCALENDAR
VERSION:2.0
PRODID:-//Penobscot Marine Museum - ECPv6.15.20//NONSGML v1.0//EN
CALSCALE:GREGORIAN
METHOD:PUBLISH
X-WR-CALNAME:Penobscot Marine Museum
X-ORIGINAL-URL:https://penobscotmarinemuseum.org
X-WR-CALDESC:Events for Penobscot Marine Museum
REFRESH-INTERVAL;VALUE=DURATION:PT1H
X-Robots-Tag:noindex
X-PUBLISHED-TTL:PT1H
BEGIN:VTIMEZONE
TZID:UTC
BEGIN:STANDARD
TZOFFSETFROM:+0000
TZOFFSETTO:+0000
TZNAME:UTC
DTSTART:20150101T000000
END:STANDARD
END:VTIMEZONE
BEGIN:VEVENT
DTSTART;TZID=UTC:20160623T173000
DTEND;TZID=UTC:20160623T190000
DTSTAMP:20260424T161026
CREATED:20160406T153516Z
LAST-MODIFIED:20160406T153641Z
UID:4095-1466703000-1466708400@penobscotmarinemuseum.org
SUMMARY:Maine Photography: A History\, 1840-2015
DESCRIPTION:With authors Libby Bischof\, Susan Danly\, and Earle G. Shettleworth\, Jr.\nThursday\, June 23\, 5:30 pm to 7 pm\, Carver Memorial Gallery\, 11 Church St.\nAdmission free.  \nMeet the historians behind the book Maine Photography: A History\, 1840-2015 and explore with them the origins of Maine’s rich photographic traditions; the rise of a fine-art photographic tradition; and the evolution of a thriving contemporary photo scene. Maine Photography: A History\, 1840-2015 is part of the Maine Photo Project.
URL:https://penobscotmarinemuseum.org/event-single/maine-photography-a-history-1840-2015/
LOCATION:Penobscot Marine Museum’s Douglas and Margaret Carver Memorial Art Gallery\, 11 Church St.\, Searsport\, 04974\, United States
CATEGORIES:Talk and Book Signing
ATTACH;FMTTYPE=image/jpeg:https://penobscotmarinemuseum.org/wp-content/uploads/2016/04/Maine-Photography-A-History.jpg
ORGANIZER;CN="Penobscot Marine Museum":MAILTO:jganskop@pmm-maine.org
END:VEVENT
END:VCALENDAR