BEGIN:VCALENDAR
VERSION:2.0
PRODID:-//Penobscot Marine Museum - ECPv6.15.20//NONSGML v1.0//EN
CALSCALE:GREGORIAN
METHOD:PUBLISH
X-WR-CALNAME:Penobscot Marine Museum
X-ORIGINAL-URL:https://penobscotmarinemuseum.org
X-WR-CALDESC:Events for Penobscot Marine Museum
REFRESH-INTERVAL;VALUE=DURATION:PT1H
X-Robots-Tag:noindex
X-PUBLISHED-TTL:PT1H
BEGIN:VTIMEZONE
TZID:UTC
BEGIN:STANDARD
TZOFFSETFROM:+0000
TZOFFSETTO:+0000
TZNAME:UTC
DTSTART:20150101T000000
END:STANDARD
END:VTIMEZONE
BEGIN:VEVENT
DTSTART;TZID=UTC:20160728T190000
DTEND;TZID=UTC:20160728T203000
DTSTAMP:20260424T161041
CREATED:20160406T174900Z
LAST-MODIFIED:20160629T181902Z
UID:4114-1469732400-1469737800@penobscotmarinemuseum.org
SUMMARY:Maine Women Authors Of The 1950’S
DESCRIPTION:With Sandy Phippen\nThursday\, July 28\, 7 pm\, Carver Memorial Gallery\, 11 Church St.\nCost: $8; $5 Members \nWhat do the novels of Mary Ellen Chase\, Elizabeth Ogilvie\, Ruth Moore\, Miriam Colwell\, and Louise Dickinson Rich tell us about Maine’s sense of place?  Author and University of Maine lecturer Sandy Phippen will look at these authors and their rich portraits of Maine’s landscape and way of life.   This is the keynote talk for a series of book discussions taking place at five Waldo County Libraries\, which will culminate in a panel discussion at PMM on August 18.   \nPurchase Tickets Online
URL:https://penobscotmarinemuseum.org/event-single/maine-women-authors-of-the-1950s-2/
LOCATION:Penobscot Marine Museum’s Douglas and Margaret Carver Memorial Art Gallery\, 11 Church St.\, Searsport\, 04974\, United States
CATEGORIES:Lecture
ATTACH;FMTTYPE=image/jpeg:https://penobscotmarinemuseum.org/wp-content/uploads/2016/04/Sandy-Phippen.jpg
ORGANIZER;CN="Penobscot Marine Museum":MAILTO:jganskop@pmm-maine.org
END:VEVENT
END:VCALENDAR