BEGIN:VCALENDAR
VERSION:2.0
PRODID:-//Penobscot Marine Museum - ECPv6.15.20//NONSGML v1.0//EN
CALSCALE:GREGORIAN
METHOD:PUBLISH
X-WR-CALNAME:Penobscot Marine Museum
X-ORIGINAL-URL:https://penobscotmarinemuseum.org
X-WR-CALDESC:Events for Penobscot Marine Museum
REFRESH-INTERVAL;VALUE=DURATION:PT1H
X-Robots-Tag:noindex
X-PUBLISHED-TTL:PT1H
BEGIN:VTIMEZONE
TZID:UTC
BEGIN:STANDARD
TZOFFSETFROM:+0000
TZOFFSETTO:+0000
TZNAME:UTC
DTSTART:20150101T000000
END:STANDARD
END:VTIMEZONE
BEGIN:VEVENT
DTSTART;TZID=UTC:20160818T190000
DTEND;TZID=UTC:20160818T203000
DTSTAMP:20260424T155439
CREATED:20160406T165614Z
LAST-MODIFIED:20160629T182233Z
UID:4105-1471546800-1471552200@penobscotmarinemuseum.org
SUMMARY:Maine Women Authors Of The 1950’S
DESCRIPTION:With Cathleen Miller\, and Melissa Hayes\nThursday\, August 18\, 7 pm\, Carver Memorial Gallery\, 11 Church St.\nCost: $8; $5 Members \nCathleen Miller\, Curator of the Maine Women Writers Collection at UNE\,  Elizabeth Ogilvie biographer\, Melissa Hayes\, Ruth Moore Days organizers\, Muriel Davisson and Miram Colwell\, and devotee Jane O’Rourke will discuss how the novels of Mary Ellen Chase\, Elisabeth Ogilvie\, Ruth Moore\, Miriam Colwell and Louise Dickinson Rich provide different portraits of the people and the state of Maine.  This is the culminating event of Book Talks on Communicating Maine: Maine Women Authors Of The 1950’​s​. \nPurchase Tickets Online
URL:https://penobscotmarinemuseum.org/event-single/maine-women-authors-of-the-1950s/
LOCATION:Penobscot Marine Museum’s Douglas and Margaret Carver Memorial Art Gallery\, 11 Church St.\, Searsport\, 04974\, United States
CATEGORIES:Lecture
ATTACH;FMTTYPE=image/jpeg:https://penobscotmarinemuseum.org/wp-content/uploads/2016/04/clarka-typing-une-crpd.jpg
ORGANIZER;CN="Penobscot Marine Museum":MAILTO:jganskop@pmm-maine.org
END:VEVENT
END:VCALENDAR