BEGIN:VCALENDAR
VERSION:2.0
PRODID:-//Penobscot Marine Museum - ECPv6.15.20//NONSGML v1.0//EN
CALSCALE:GREGORIAN
METHOD:PUBLISH
X-WR-CALNAME:Penobscot Marine Museum
X-ORIGINAL-URL:https://penobscotmarinemuseum.org
X-WR-CALDESC:Events for Penobscot Marine Museum
REFRESH-INTERVAL;VALUE=DURATION:PT1H
X-Robots-Tag:noindex
X-PUBLISHED-TTL:PT1H
BEGIN:VTIMEZONE
TZID:America/New_York
BEGIN:DAYLIGHT
TZOFFSETFROM:-0500
TZOFFSETTO:-0400
TZNAME:EDT
DTSTART:20190310T070000
END:DAYLIGHT
BEGIN:STANDARD
TZOFFSETFROM:-0400
TZOFFSETTO:-0500
TZNAME:EST
DTSTART:20191103T060000
END:STANDARD
BEGIN:DAYLIGHT
TZOFFSETFROM:-0500
TZOFFSETTO:-0400
TZNAME:EDT
DTSTART:20200308T070000
END:DAYLIGHT
BEGIN:STANDARD
TZOFFSETFROM:-0400
TZOFFSETTO:-0500
TZNAME:EST
DTSTART:20201101T060000
END:STANDARD
BEGIN:DAYLIGHT
TZOFFSETFROM:-0500
TZOFFSETTO:-0400
TZNAME:EDT
DTSTART:20210314T070000
END:DAYLIGHT
BEGIN:STANDARD
TZOFFSETFROM:-0400
TZOFFSETTO:-0500
TZNAME:EST
DTSTART:20211107T060000
END:STANDARD
END:VTIMEZONE
BEGIN:VEVENT
DTSTART;TZID=America/New_York:20200803T120000
DTEND;TZID=America/New_York:20200803T123000
DTSTAMP:20260424T190203
CREATED:20200729T191301Z
LAST-MODIFIED:20200729T191301Z
UID:7416-1596456000-1596457800@penobscotmarinemuseum.org
SUMMARY:Member Mondays on Zoom
DESCRIPTION:The model of the ship B. AYMER has some whimsical details on board showing daily life aboard\, PMM#1964.17.1 \nMonday\, August 3\nNoon and lasts around 20 minutes\nFREE\, Members Only \nJoin Penobscot Marine Museum Curatorial Staff for live lunchtime Zoom presentations. Rotating between Curator Cipperly Good\, Photo Archivist Kevin Johnson\, and Digital Collections Curator Matt Wheeler\, each week a different staff member will focus on one of their favorite artifacts or collections. Enjoy close up views and interesting stories\, plus an opportunity to ask your own questions and chat with PMM staff!  \nOn this Monday\, Curator Cipperly Good zooming in on the ship B. AYMER. In addition to being the first full-rigged ship built by Searsport’s John Carver in 1840\, she had a famous captain: Joshua Slocum\, who fought off the slave trader Bully Hayes in the Philippine Sea aboard the ship\, and later did the first solo circumnavigation around the world in the sloop SPRAY.  \nIf you are a member and did not receive an email with the Zoom link\, please email skettell@pmm-maine.org. \nNot a member? Join today to take advantage of unique opportunities like this one and to support the ongoing educational and preservation efforts of the Museum. \nThis programming has been made possible in part by the National Endowment for the Humanities: Exploring the human endeavor. Any views\, findings\, conclusions\, or recommendations expressed in these programs\, do not necessarily represent those of the National Endowment for the Humanities. Visit the National Endowment for the Humanities website here  https://www.neh.gov.
URL:https://penobscotmarinemuseum.org/event-single/member-mondays-on-zoom-2-3/
LOCATION:Zoom
CATEGORIES:Family Event
ATTACH;FMTTYPE=image/jpeg:https://penobscotmarinemuseum.org/wp-content/uploads/2016/11/Cipperly-Good.jpg
END:VEVENT
END:VCALENDAR