BEGIN:VCALENDAR
VERSION:2.0
PRODID:-//Penobscot Marine Museum - ECPv6.15.20//NONSGML v1.0//EN
CALSCALE:GREGORIAN
METHOD:PUBLISH
X-WR-CALNAME:Penobscot Marine Museum
X-ORIGINAL-URL:https://penobscotmarinemuseum.org
X-WR-CALDESC:Events for Penobscot Marine Museum
REFRESH-INTERVAL;VALUE=DURATION:PT1H
X-Robots-Tag:noindex
X-PUBLISHED-TTL:PT1H
BEGIN:VTIMEZONE
TZID:America/New_York
BEGIN:DAYLIGHT
TZOFFSETFROM:-0500
TZOFFSETTO:-0400
TZNAME:EDT
DTSTART:20140309T070000
END:DAYLIGHT
BEGIN:STANDARD
TZOFFSETFROM:-0400
TZOFFSETTO:-0500
TZNAME:EST
DTSTART:20141102T060000
END:STANDARD
BEGIN:DAYLIGHT
TZOFFSETFROM:-0500
TZOFFSETTO:-0400
TZNAME:EDT
DTSTART:20150308T070000
END:DAYLIGHT
BEGIN:STANDARD
TZOFFSETFROM:-0400
TZOFFSETTO:-0500
TZNAME:EST
DTSTART:20151101T060000
END:STANDARD
BEGIN:DAYLIGHT
TZOFFSETFROM:-0500
TZOFFSETTO:-0400
TZNAME:EDT
DTSTART:20160313T070000
END:DAYLIGHT
BEGIN:STANDARD
TZOFFSETFROM:-0400
TZOFFSETTO:-0500
TZNAME:EST
DTSTART:20161106T060000
END:STANDARD
END:VTIMEZONE
BEGIN:VEVENT
DTSTART;TZID=America/New_York:20150828T120000
DTEND;TZID=America/New_York:20150828T123000
DTSTAMP:20260424T161017
CREATED:20150420T203939Z
LAST-MODIFIED:20150420T204126Z
UID:2899-1440763200-1440765000@penobscotmarinemuseum.org
SUMMARY:Mike Stein Memorial Painting Raffle Drawing
DESCRIPTION:In memory of Penobscot Marine Museum’s beloved Board Member Dr. Mike Stein\, and to celebrate his love of the water and boating\, Jerri Finch has donated her beautiful painting West Fork to raise funds in his memory. The painting is oil on board\, 9 1/2″ x 14 1/2″\, and has a lovely wooden frame. Purchase your raffle tickets or make a donation in Mike’s memory online here. \nDue to the closing of the Museum Shop and Framer in October\, we have extended the raffle. The drawing has been rescheduled to Friday\, August 28\, 2015 at the museum.
URL:https://penobscotmarinemuseum.org/event-single/mike-stein-memorial-painting-raffle-drawing/
LOCATION:Penobscot Marine Museum\, 2 Church Street\, Searsport\, 04974\, United States
CATEGORIES:Special Event
ATTACH;FMTTYPE=image/jpeg:https://penobscotmarinemuseum.org/wp-content/uploads/2014/09/Jerri_Finch-1000.jpg
ORGANIZER;CN="Penobscot Marine Museum":MAILTO:jganskop@pmm-maine.org
END:VEVENT
END:VCALENDAR