BEGIN:VCALENDAR
VERSION:2.0
PRODID:-//Penobscot Marine Museum - ECPv6.15.20//NONSGML v1.0//EN
CALSCALE:GREGORIAN
METHOD:PUBLISH
X-WR-CALNAME:Penobscot Marine Museum
X-ORIGINAL-URL:https://penobscotmarinemuseum.org
X-WR-CALDESC:Events for Penobscot Marine Museum
REFRESH-INTERVAL;VALUE=DURATION:PT1H
X-Robots-Tag:noindex
X-PUBLISHED-TTL:PT1H
BEGIN:VTIMEZONE
TZID:UTC
BEGIN:STANDARD
TZOFFSETFROM:+0000
TZOFFSETTO:+0000
TZNAME:UTC
DTSTART:20150101T000000
END:STANDARD
END:VTIMEZONE
BEGIN:VEVENT
DTSTART;TZID=UTC:20160518T170000
DTEND;TZID=UTC:20160518T190000
DTSTAMP:20260424T161026
CREATED:20160510T021800Z
LAST-MODIFIED:20160510T021800Z
UID:4204-1463590800-1463598000@penobscotmarinemuseum.org
SUMMARY:Museum To Host Open House For Local Businesses
DESCRIPTION:Aerial view of Penobscot Marine Museum’s 3 acres and 12 buildings. \nOwners and staff of area businesses are invited to a party and special preview of Penobscot Marine Museum’s 2016 exhibits on Wednesday\, May 18th\, from 5:00 pm to 7:00 pm. The museum’s theme Wish You Were here: Communicating Maine includes several exhibits; Historic Maine: A Postcard View\, Acadia National Park: A Postcard View\, and Maine: A Continuum of Place. Carl Little\, author of Paintings of Maine\, Art of the Maine Islands and Guest Curator of the museum’s exhibit Maine: A Continuum of Place will be attending\, along with many of the artists represented in the exhibit. Photography Archivist Kevin Johnson will also be on hand to discuss the museum’s extensive historic photography and postcard collection featured in these exhibits. \nEach business attending will receive a gift of five free passes to Penobscot Marine Museum. “We wanted to say thank you to all of our local businesses\,” says Liz Lodge\, the museum’s Executive Director. “These local businesses do so much for the community and for us\, they help make this area vibrant.” Four of the twelve museum buildings will be open in this special preview: the ship captain’s house\, Main Street Gallery\, Visitors Center\, and Merithew. The museum opens to the public on Saturday\, May 28.
URL:https://penobscotmarinemuseum.org/event-single/museum-to-host-open-house-for-local-businesses/
LOCATION:Penobscot Marine Museum\, 2 Church Street\, Searsport\, 04974\, United States
CATEGORIES:Special Event
ATTACH;FMTTYPE=image/jpeg:https://penobscotmarinemuseum.org/wp-content/uploads/2016/05/PMM-Aerial-View-640.jpg
ORGANIZER;CN="Penobscot Marine Museum":MAILTO:jganskop@pmm-maine.org
END:VEVENT
END:VCALENDAR