BEGIN:VCALENDAR
VERSION:2.0
PRODID:-//Penobscot Marine Museum - ECPv6.15.20//NONSGML v1.0//EN
CALSCALE:GREGORIAN
METHOD:PUBLISH
X-WR-CALNAME:Penobscot Marine Museum
X-ORIGINAL-URL:https://penobscotmarinemuseum.org
X-WR-CALDESC:Events for Penobscot Marine Museum
REFRESH-INTERVAL;VALUE=DURATION:PT1H
X-Robots-Tag:noindex
X-PUBLISHED-TTL:PT1H
BEGIN:VTIMEZONE
TZID:UTC
BEGIN:STANDARD
TZOFFSETFROM:+0000
TZOFFSETTO:+0000
TZNAME:UTC
DTSTART:20140101T000000
END:STANDARD
END:VTIMEZONE
BEGIN:VEVENT
DTSTART;TZID=UTC:20151024T080000
DTEND;TZID=UTC:20151024T143000
DTSTAMP:20260424T161028
CREATED:20151008T061028Z
LAST-MODIFIED:20151008T061644Z
UID:3353-1445673600-1445697000@penobscotmarinemuseum.org
SUMMARY:Penobscot Marine Museum 2015 History Conference
DESCRIPTION:Penobscot Marine Museum\n2015 History Conference \nWish You Were Here: Communicating Maine’s Unique Sense of Place\nSaturday October 24\, 2015\n8:00 am to 2:30pm\nUniversity of Maine Hutchinson Center\n80 Belmont Avenue\nBelfast\, Maine \nFor tickets click here. \nor call 207-548-0334 or 548-2529. \n  \nTo View the complete schedule click here. \nDownload History Conference Brochure
URL:https://penobscotmarinemuseum.org/event-single/penobscot-marine-museum-2015-history-conference/
LOCATION:University of Maine Hutchinson Center\, 80 Belmont Avenue\, Belfast\, 04915\, United States
ATTACH;FMTTYPE=image/jpeg:https://penobscotmarinemuseum.org/wp-content/uploads/2013/01/wish-you-were-here.jpg
ORGANIZER;CN="Penobscot Marine Museum":MAILTO:jganskop@pmm-maine.org
END:VEVENT
END:VCALENDAR