BEGIN:VCALENDAR
VERSION:2.0
PRODID:-//Penobscot Marine Museum - ECPv6.15.20//NONSGML v1.0//EN
CALSCALE:GREGORIAN
METHOD:PUBLISH
X-WR-CALNAME:Penobscot Marine Museum
X-ORIGINAL-URL:https://penobscotmarinemuseum.org
X-WR-CALDESC:Events for Penobscot Marine Museum
REFRESH-INTERVAL;VALUE=DURATION:PT1H
X-Robots-Tag:noindex
X-PUBLISHED-TTL:PT1H
BEGIN:VTIMEZONE
TZID:UTC
BEGIN:STANDARD
TZOFFSETFROM:+0000
TZOFFSETTO:+0000
TZNAME:UTC
DTSTART:20140101T000000
END:STANDARD
END:VTIMEZONE
BEGIN:VEVENT
DTSTART;TZID=UTC:20151204T160000
DTEND;TZID=UTC:20151205T160000
DTSTAMP:20260424T161027
CREATED:20151119T003510Z
LAST-MODIFIED:20151130T225442Z
UID:3437-1449244800-1449331200@penobscotmarinemuseum.org
SUMMARY:Penobscot Marine Museum Victorian Christmas
DESCRIPTION:Searsport Christmas Extravaganza!\nFriday\, December 4th and Saturday\, December 5th\nAdmission free unless otherwise indicated \n Friday\, December 4 \n5:30 pm – Town of Searsport Tree Lighting on the Crescent\n \n10 am to 7 pm – Grasshopper Shop Customer Appreciation Open House \n• Storewide 20% discount\n• Refreshments \n4 pm to 6 pm – Open House at Penobscot Marine Museum’s Fowler-True-Ross Sea Captain’s House\nRooms beautifully decorated for a Victorian Christmas by community groups and businesses: \n• Bangor Savings Bank\n• Blue Jacket Shipcrafters\n• Congregational Church Women’s Fellowship Group\n• Friendship Quilting group\n• Nautical Scribe Books\n• Searsport Antique Mall\n• Searsport Beautification Committee\n• Searsport Historical Society \n4 pm to 6 pm – Meet the Authors at Penobscot Marine Museum Store\nMeet Maine Authors: \n• Ardeana Hamlin\, Abbott’s Reach\, The Havener Sisters\n• Douglas Coffin\, One Maine Christmas Eve\n• Mac Smith\, Mainers on the Titanic\n• Mark Scott Ricketts\, A Flatlander’s Guide to Maine\, Adventures in Vacationland\n• Mark Warner\, The Tragedy of the Royal Tar\n• Russ Cox (illustrator)\, Merry Moosey Christmas\n• Christmas Gingerbread display\n• “White Christmas” dress on display\n• Refreshments \n4 pm to 6 pm  – Tours of First Congregational Church \n• Historical tours of this 19th century church with gorgeous stained glass windows\n• Refreshments served in Fellowship Hall \n7 pm  – Variety Show at Union Hall at Searsport Town Office \n• Holiday Season Variety Show to benefit the stained glass window restoration fund for First Congregational Church.  Something for everyone of all ages – Songs\, Stories\, Music and a whole lot of fun!  Adults $8\, Kids 12 and under $4.  Refreshments for sale. \n  \n Saturday\, December 5 \n10 am to 4 pm  – Open House at Penobscot Marine Museum’s Fowler-True-Ross Sea Captain’s House (Searsport Historic Society House Tour)\,\n10 am to noon  – Live music: Ralph Stanley and his fiddle group\n2 pm to 3 pm  – Live music: ensemble from the Pen Bay Singers\n1 pm and 3 pm  – Christmas readings from 19th century Christmas favorites Read by Katie Hessler\, Librarian Carver Library  \n10 am to 4 pm  – Holiday Displays at Penobscot Marine Museum Store \n• Christmas Gingerbread display\n • “White Christmas” dress on display \n10 am to 4 pm   – Tours of First Congregational Church \n• Historical tours of this 19th century church with gorgeous stained glass windows\n• Refreshments served in Fellowship Hall \n1 pm to 4 pm  – Searsport Historical Society House Tour\nTickets are $10\, and are for sale now at Searsport Antique Mall and on the day of the tour at Searsport Historical Society’s Coleman House \n• Beautifully decorated for Christmas\, the homes are: Dawn & Keith Ritchie’s house\, Suzanne & Joel Ploszaj’s house\, Lin Calista & George Kerper’s house\, Janet William’s house\, Marie Underwood’s house\, Kendra & Bruce Probert’s house and the Fowler-True-Ross house at the Penobscot Marine Museum.\n• Refreshments served at Searsport Historical Society’s Coleman House\n• Decorated Penobscot #1 Fire Truck in the barn doorway of Coleman House\n \n10 am to 1 pm  – Carver Memorial Library Gift Book Sale\nRare and first edition books on sale to support the Library\nCarver Memorial Library\, 12 Union Street \n2 pm  – Christmas Concert at Searsport District High School\nTempo\, The Eastern Maine Pops Orchestra Christmas Cheer Concerts\, traditional and modern arrangement of carols.
URL:https://penobscotmarinemuseum.org/event-single/penobscot-marine-museum-victorian-christmas/
LOCATION:Penobscot Marine Museum\, 2 Church Street\, Searsport\, 04974\, United States
CATEGORIES:Special Event
ATTACH;FMTTYPE=image/jpeg:https://penobscotmarinemuseum.org/wp-content/uploads/2015/10/Victorian-Christmas-image.jpg
ORGANIZER;CN="Penobscot Marine Museum":MAILTO:jganskop@pmm-maine.org
END:VEVENT
END:VCALENDAR