BEGIN:VCALENDAR
VERSION:2.0
PRODID:-//Penobscot Marine Museum - ECPv6.15.20//NONSGML v1.0//EN
CALSCALE:GREGORIAN
METHOD:PUBLISH
X-WR-CALNAME:Penobscot Marine Museum
X-ORIGINAL-URL:https://penobscotmarinemuseum.org
X-WR-CALDESC:Events for Penobscot Marine Museum
REFRESH-INTERVAL;VALUE=DURATION:PT1H
X-Robots-Tag:noindex
X-PUBLISHED-TTL:PT1H
BEGIN:VTIMEZONE
TZID:America/New_York
BEGIN:DAYLIGHT
TZOFFSETFROM:-0500
TZOFFSETTO:-0400
TZNAME:EDT
DTSTART:20140309T070000
END:DAYLIGHT
BEGIN:STANDARD
TZOFFSETFROM:-0400
TZOFFSETTO:-0500
TZNAME:EST
DTSTART:20141102T060000
END:STANDARD
BEGIN:DAYLIGHT
TZOFFSETFROM:-0500
TZOFFSETTO:-0400
TZNAME:EDT
DTSTART:20150308T070000
END:DAYLIGHT
BEGIN:STANDARD
TZOFFSETFROM:-0400
TZOFFSETTO:-0500
TZNAME:EST
DTSTART:20151101T060000
END:STANDARD
BEGIN:DAYLIGHT
TZOFFSETFROM:-0500
TZOFFSETTO:-0400
TZNAME:EDT
DTSTART:20160313T070000
END:DAYLIGHT
BEGIN:STANDARD
TZOFFSETFROM:-0400
TZOFFSETTO:-0500
TZNAME:EST
DTSTART:20161106T060000
END:STANDARD
END:VTIMEZONE
BEGIN:VEVENT
DTSTART;TZID=America/New_York:20150819T100000
DTEND;TZID=America/New_York:20150819T120000
DTSTAMP:20260424T155304
CREATED:20150520T190950Z
LAST-MODIFIED:20150522T183723Z
UID:2994-1439978400-1439985600@penobscotmarinemuseum.org
SUMMARY:Photoplay with M.J. Bronstein
DESCRIPTION:Wednesday\, Aug 19\, drop-in anytime between 10:00 am and noon \nDraw\, color\, paint and more! Using historic photographs from the Penobscot Marine Museum collection\, create your own work of art.  Let your imagination and historical images run wild together.   Supplies provided.\nArtist: M.J. Bronstein\, known for her unique painted images and her work with the photographic negative\, is author of Photoplay and is an educator at Center for Maine Contemporary Art.  \nCost: $5\, Free for members.  For all ages.  Children must be accompanied by an adult. \n\n\n    Buy Tickets Online\n    \n \n     \nPhotoplay by M.J. Bronstein
URL:https://penobscotmarinemuseum.org/event-single/photoplay-with-m-j-bronstein/
LOCATION:Penobscot Marine Museum\, 2 Church Street\, Searsport\, 04974\, United States
CATEGORIES:Children’s Program
ATTACH;FMTTYPE=image/jpeg:https://penobscotmarinemuseum.org/wp-content/uploads/2015/05/Photoplay.jpg
ORGANIZER;CN="Penobscot Marine Museum":MAILTO:jganskop@pmm-maine.org
END:VEVENT
END:VCALENDAR