BEGIN:VCALENDAR
VERSION:2.0
PRODID:-//Penobscot Marine Museum - ECPv5.8.0//NONSGML v1.0//EN
CALSCALE:GREGORIAN
METHOD:PUBLISH
X-WR-CALNAME:Penobscot Marine Museum
X-ORIGINAL-URL:https://penobscotmarinemuseum.org
X-WR-CALDESC:Events for Penobscot Marine Museum
BEGIN:VTIMEZONE
TZID:America/New_York
BEGIN:DAYLIGHT
TZOFFSETFROM:-0500
TZOFFSETTO:-0400
TZNAME:EDT
DTSTART:20140309T070000
END:DAYLIGHT
BEGIN:STANDARD
TZOFFSETFROM:-0400
TZOFFSETTO:-0500
TZNAME:EST
DTSTART:20141102T060000
END:STANDARD
END:VTIMEZONE
BEGIN:VEVENT
DTSTART;TZID=America/New_York:20141101T080000
DTEND;TZID=America/New_York:20141101T143000
DTSTAMP:20210706T101744
CREATED:20140518T172801Z
LAST-MODIFIED:20141029T224351Z
UID:2194-1414828800-1414852200@penobscotmarinemuseum.org
SUMMARY:PMM History Conference 2014
DESCRIPTION:Save the Date! \nExploring the Magic of Photography: Painting with Light\nSaturday\, November 1\, 8:00 am to 2:30 pm\nUniversity of Maine Hutchinson Center\, Belfast\, Maine\n80 Belmont Avenue\, Belfast\, Maine \n Register online or call us at 207-548-2529 \nConference Tickets: \n\n$50 Museum Members\n$60 Non-members\n$50 Teachers and Non-profit Employees\n$30 Students\n\nHistory Conference Brochure \n  \nSchedule: 8:00 to 8:45 am – Registration\n9:00 to 9:30 am – Evolution of the Photographic Snapshot\nMichael Simon\, Retired Professor of Photography at Beloit College\nWe live in the age of the selfie\, but originally photography was the work of professionals and serious amateurs. In 1900 Eastman Kodak introduced the Brownie and suddenly everyone had a camera in their hand. What pictures did they take then\, and how has it changed over time? The photographic snapshot has a fascinating history illuminating how we see ourselves as a culture.  \n9:45 to 10:15 am – Stalking the Elusive Historic Photograph\nBill Bunting\, Maine historian and author of A Day’s Work: A Sampler of Historic Maine Photographs 1860-1920 Part I & II\, Live Yankees\, and Sea Struck\nPhotographic treasures are hidden away in historical societies and private collections as well as attics and barns. Finding these gems is an exciting adventure requiring knowledge\, skill\, diplomacy\, patience and persistence. The rewards of saving these documents of our cultural heritage are enormous. \n10:30 to 11:00 am – Beyond Nostalgia: Four Maine Women Photographers at the Turn-of-the-Century\nLibby Bischof\, Associate Professor of History\, University of Southern Maine\nIn this richly illustrated presentation\, Bischof will discuss the lives of four Maine women photographers working at the turn of the century: Chansonetta Stanley Emmons\, Emma Lewis Coleman\, Emma Sewall\, and Joanna Colcord\, focusing on the common themes in their photographic work\, as well as their inclinations towards local history and preservation. She will also address modern interpretations of the work of these photographers as sentimental and nostalgic and offer an alternate perspective based on their historic preservation work. \n11:15 to 11:45 am – Documenting Fishing in New England 2005-2014\nSam Murfitt\, Professional Photographer\nFor over ten years\, Sam Murfitt has been documenting Maine’s Working Waterfront. He has photographed the lobstermen\, fish and bait dealers\, boat builders and fishermen both on dry land and at sea. Seeing the fishing industry rapidly changing and disappearing\, he decided to focus his attention on documenting the disappearing traditions and crafts\, and the people involved in them. \n12:00 am to 12:45 pm – LUNCH\n1:00 to 1:30 pm – Photography and American Literature:  From Ideal to Real\nLaura Saltz\, Associate Professor and Director American Studies Program\, Colby College\nTo paraphrase historian of photography Gail Buckland\, photography is not merely a technology\, it is also an idea. This talk gives an overview of the ways that American literature helped articulate the idea of photography in its first few decades. As both an ideal force of nature and a model of realistic representation\, photography in turn helped change the literature that sought to imagine its meanings and potentials.  \n1:45 to 2:15 pm – Close to the Land & Close to the Sea: The Photography of Kosti Ruohomaa\nDeanna S. Bonner-Ganter\, Curator of Photography\, Art\, and Archives\, Maine State Museum\nMany legends surround the Finish-American photographer Kosti Ruohomaa\, and it is said his life was “haunted”. Ruohomaa was an award-winning photo journalist who shot iconic portraits of working Americans which appeared in LIFE\, National Geographic\, and other publications from 1940 to 1960\, but Maine was always his favorite subject. Bonner-Ganter has studied Kosti Ruohomaa for twenty years\, and her biography of Ruohomaa will soon be published by Down East Books. \n 
URL:https://penobscotmarinemuseum.org/event-single/pmm-history-conference-2014/
LOCATION:University of Maine Hutchinson Center\, 80 Belmont Avenue\, Belfast\, 04915\, United States
CATEGORIES:Special Event
ATTACH;FMTTYPE=image/jpeg:https://penobscotmarinemuseum.org/welcome/wp-content/uploads/2014/05/History_conference_image_2014.jpg
ORGANIZER;CN="Penobscot%20Marine%20Museum":MAILTO:jganskop@pmm-maine.org
END:VEVENT
END:VCALENDAR