BEGIN:VCALENDAR
VERSION:2.0
PRODID:-//Penobscot Marine Museum - ECPv5.8.0//NONSGML v1.0//EN
CALSCALE:GREGORIAN
METHOD:PUBLISH
X-WR-CALNAME:Penobscot Marine Museum
X-ORIGINAL-URL:https://penobscotmarinemuseum.org
X-WR-CALDESC:Events for Penobscot Marine Museum
BEGIN:VTIMEZONE
TZID:America/New_York
BEGIN:DAYLIGHT
TZOFFSETFROM:-0500
TZOFFSETTO:-0400
TZNAME:EDT
DTSTART:20180311T070000
END:DAYLIGHT
BEGIN:STANDARD
TZOFFSETFROM:-0400
TZOFFSETTO:-0500
TZNAME:EST
DTSTART:20181104T060000
END:STANDARD
END:VTIMEZONE
BEGIN:VEVENT
DTSTART;TZID=America/New_York:20180707T110000
DTEND;TZID=America/New_York:20180707T140000
DTSTAMP:20210716T030443
CREATED:20180328T225650Z
LAST-MODIFIED:20180329T141816Z
UID:5495-1530961200-1530972000@penobscotmarinemuseum.org
SUMMARY:Remote Control Lobster Boat and America's Cup Sailboat Model Races
DESCRIPTION:July 7; 11am-2pm\nRemote Control Lobster Boat and America’s Cup Sailboat Model Races\nMuseum Crescent and Searsport Town Dock\nCost: Free with Museum Admission \nIt is race day down at the Searsport Town Dock\, as the models of Lobster boats and America’s Cup Yachts race for glory.  Stop by and cheer them on!
URL:https://penobscotmarinemuseum.org/event-single/remote-control-lobster-boat-and-americas-cup-sailboat-model-races/
LOCATION:Penobscot Marine Museum\, 2 Church Street\, Searsport\, 04974\, United States
CATEGORIES:Family Event
ATTACH;FMTTYPE=image/jpeg:https://penobscotmarinemuseum.org/welcome/wp-content/uploads/2018/03/7-7.jpg
END:VEVENT
END:VCALENDAR