BEGIN:VCALENDAR
VERSION:2.0
PRODID:-//Penobscot Marine Museum - ECPv6.15.20//NONSGML v1.0//EN
CALSCALE:GREGORIAN
METHOD:PUBLISH
X-WR-CALNAME:Penobscot Marine Museum
X-ORIGINAL-URL:https://penobscotmarinemuseum.org
X-WR-CALDESC:Events for Penobscot Marine Museum
REFRESH-INTERVAL;VALUE=DURATION:PT1H
X-Robots-Tag:noindex
X-PUBLISHED-TTL:PT1H
BEGIN:VTIMEZONE
TZID:America/New_York
BEGIN:DAYLIGHT
TZOFFSETFROM:-0500
TZOFFSETTO:-0400
TZNAME:EDT
DTSTART:20140309T070000
END:DAYLIGHT
BEGIN:STANDARD
TZOFFSETFROM:-0400
TZOFFSETTO:-0500
TZNAME:EST
DTSTART:20141102T060000
END:STANDARD
BEGIN:DAYLIGHT
TZOFFSETFROM:-0500
TZOFFSETTO:-0400
TZNAME:EDT
DTSTART:20150308T070000
END:DAYLIGHT
BEGIN:STANDARD
TZOFFSETFROM:-0400
TZOFFSETTO:-0500
TZNAME:EST
DTSTART:20151101T060000
END:STANDARD
BEGIN:DAYLIGHT
TZOFFSETFROM:-0500
TZOFFSETTO:-0400
TZNAME:EDT
DTSTART:20160313T070000
END:DAYLIGHT
BEGIN:STANDARD
TZOFFSETFROM:-0400
TZOFFSETTO:-0500
TZNAME:EST
DTSTART:20161106T060000
END:STANDARD
END:VTIMEZONE
BEGIN:VEVENT
DTSTART;TZID=America/New_York:20150618T190000
DTEND;TZID=America/New_York:20150618T210000
DTSTAMP:20260424T161040
CREATED:20150520T152040Z
LAST-MODIFIED:20150522T181839Z
UID:2968-1434654000-1434661200@penobscotmarinemuseum.org
SUMMARY:The Land and Sea of Three Maine Women Photographers: The Real Photo Post Cards of Thurza Foss\, Minnie Libby\, and Josephine Townsend
DESCRIPTION:Thursday\, June 18\, 7:00 pm in PMM’s Douglas and Margaret Carver Memorial Art Gallery\, 11 Church Street  \nEarl G. Shettleworth\, photo by Joe Phelan/Kennebec-Journal \nThe inspiring stories of three women who become successful photographers at a time when most photographers were men.  These three enterprising women created striking bodies of work which provide rich insights into how Maine people lived and worked in inland towns and coastal villages a century ago. \nLecturer: Earle G. Shettleworth\, Jr.\, Maine State Historian and Director and State Historic Preservation Officer of the Maine Historic Preservation Commission \nCost: $8; $5 Members \n\n\n    Buy Tickets Online
URL:https://penobscotmarinemuseum.org/event-single/the-land-and-sea-of-three-maine-women-photographers-the-real-photo-post-cards-of-thurza-foss-minnie-libby-and-josephine-townsend/
LOCATION:Penobscot Marine Museum’s Douglas and Margaret Carver Memorial Art Gallery\, 11 Church St.\, Searsport\, 04974\, United States
CATEGORIES:Thursday Night Film and Lecture Series
ATTACH;FMTTYPE=image/jpeg:https://penobscotmarinemuseum.org/wp-content/uploads/2015/05/Earl-Shettleworth.jpg
ORGANIZER;CN="Penobscot Marine Museum":MAILTO:jganskop@pmm-maine.org
END:VEVENT
END:VCALENDAR