BEGIN:VCALENDAR
VERSION:2.0
PRODID:-//Penobscot Marine Museum - ECPv6.15.20//NONSGML v1.0//EN
CALSCALE:GREGORIAN
METHOD:PUBLISH
X-WR-CALNAME:Penobscot Marine Museum
X-ORIGINAL-URL:https://penobscotmarinemuseum.org
X-WR-CALDESC:Events for Penobscot Marine Museum
REFRESH-INTERVAL;VALUE=DURATION:PT1H
X-Robots-Tag:noindex
X-PUBLISHED-TTL:PT1H
BEGIN:VTIMEZONE
TZID:America/New_York
BEGIN:DAYLIGHT
TZOFFSETFROM:-0500
TZOFFSETTO:-0400
TZNAME:EDT
DTSTART:20140309T070000
END:DAYLIGHT
BEGIN:STANDARD
TZOFFSETFROM:-0400
TZOFFSETTO:-0500
TZNAME:EST
DTSTART:20141102T060000
END:STANDARD
BEGIN:DAYLIGHT
TZOFFSETFROM:-0500
TZOFFSETTO:-0400
TZNAME:EDT
DTSTART:20150308T070000
END:DAYLIGHT
BEGIN:STANDARD
TZOFFSETFROM:-0400
TZOFFSETTO:-0500
TZNAME:EST
DTSTART:20151101T060000
END:STANDARD
BEGIN:DAYLIGHT
TZOFFSETFROM:-0500
TZOFFSETTO:-0400
TZNAME:EDT
DTSTART:20160313T070000
END:DAYLIGHT
BEGIN:STANDARD
TZOFFSETFROM:-0400
TZOFFSETTO:-0500
TZNAME:EST
DTSTART:20161106T060000
END:STANDARD
END:VTIMEZONE
BEGIN:VEVENT
DTSTART;TZID=America/New_York:20150813T190000
DTEND;TZID=America/New_York:20150813T210000
DTSTAMP:20260424T155440
CREATED:20150520T143109Z
LAST-MODIFIED:20150522T181649Z
UID:2966-1439492400-1439499600@penobscotmarinemuseum.org
SUMMARY:The Maine Frontier: Through the Lens of Isaac Walton Simpson
DESCRIPTION:Thursday\, August 13\, 7:00 pm in the First Congregational Church Vestry\, 8 Church Street   \n \nA moving glimpse of the people and families who carved out a life a hundred years ago in isolated northern Maine.   This multi-media presentation combining film\, photography\, oral history\, and live music is based on a recently discovered collection of rare early photographs taken in northern Maine by Isaac Simpson.   Made possible by a grant from the Maine Humanities Council and the Maine Arts Commission. \nFilmmaker Sumner McKane is also a composer\, musician\, historian\, and photographer. \nCost: $10; $7 Members \n\n\n    Buy Tickets Online
URL:https://penobscotmarinemuseum.org/event-single/the-maine-frontier-through-the-lens-of-isaac-walton-simpson/
LOCATION:Searsport First Congregational Church\, 8 Church St.\, Searsport\, ME\, 04974\, United States
CATEGORIES:Thursday Night Film and Lecture Series
ATTACH;FMTTYPE=image/jpeg:https://penobscotmarinemuseum.org/wp-content/uploads/2015/05/Maine-frontier.jpg
ORGANIZER;CN="Penobscot Marine Museum":MAILTO:jganskop@pmm-maine.org
END:VEVENT
END:VCALENDAR