BEGIN:VCALENDAR
VERSION:2.0
PRODID:-//Penobscot Marine Museum - ECPv6.15.20//NONSGML v1.0//EN
CALSCALE:GREGORIAN
METHOD:PUBLISH
X-WR-CALNAME:Penobscot Marine Museum
X-ORIGINAL-URL:https://penobscotmarinemuseum.org
X-WR-CALDESC:Events for Penobscot Marine Museum
REFRESH-INTERVAL;VALUE=DURATION:PT1H
X-Robots-Tag:noindex
X-PUBLISHED-TTL:PT1H
BEGIN:VTIMEZONE
TZID:America/New_York
BEGIN:DAYLIGHT
TZOFFSETFROM:-0500
TZOFFSETTO:-0400
TZNAME:EDT
DTSTART:20200308T070000
END:DAYLIGHT
BEGIN:STANDARD
TZOFFSETFROM:-0400
TZOFFSETTO:-0500
TZNAME:EST
DTSTART:20201101T060000
END:STANDARD
BEGIN:DAYLIGHT
TZOFFSETFROM:-0500
TZOFFSETTO:-0400
TZNAME:EDT
DTSTART:20210314T070000
END:DAYLIGHT
BEGIN:STANDARD
TZOFFSETFROM:-0400
TZOFFSETTO:-0500
TZNAME:EST
DTSTART:20211107T060000
END:STANDARD
BEGIN:DAYLIGHT
TZOFFSETFROM:-0500
TZOFFSETTO:-0400
TZNAME:EDT
DTSTART:20220313T070000
END:DAYLIGHT
BEGIN:STANDARD
TZOFFSETFROM:-0400
TZOFFSETTO:-0500
TZNAME:EST
DTSTART:20221106T060000
END:STANDARD
END:VTIMEZONE
BEGIN:VEVENT
DTSTART;TZID=America/New_York:20210831T170000
DTEND;TZID=America/New_York:20210831T200000
DTSTAMP:20260424T165016
CREATED:20210624T171434Z
LAST-MODIFIED:20210707T154837Z
UID:8121-1630429200-1630440000@penobscotmarinemuseum.org
SUMMARY:Themed Walking Tour: Stories of Searsport Sailing Families
DESCRIPTION:Tuesday\, August 31\, 5-8pm click here to see available times\n$25/family (up to 10 people) \nIn the late 1800s\, sea captains from Searsport were sailing around the world delivering goods to Europe\, Asia\, South America\, and many places in between. Often\, wives and children accompanied these captains. What was life like for these small-town families spending years at sea? What was it like for family members who stayed home during some voyages? Discover the stories of Searsport sailing families in this tour. \nOur talented tour guides will lead you around our beautiful campus\, sharing fascinating stories and also allowing you time to visit several exhibits. Tours are $25/family (up to 10 people). Please pre-register.  \nRain or shine. Participants must contact Penobscot Marine Museum before the start time of their scheduled tour for a refund or to reschedule. Email Jeana at jganskop@pmm-maine.org. No-shows will be charged the full rate.
URL:https://penobscotmarinemuseum.org/event-single/themed-walking-tours-stories-of-searsport-sailing-families-3/
LOCATION:Penobscot Marine Museum\, 2 Church Street\, Searsport\, 04974\, United States
CATEGORIES:Family Event
ATTACH;FMTTYPE=image/jpeg:https://penobscotmarinemuseum.org/wp-content/uploads/2021/06/8-17-8-24-8-31-Stories-of-Searsport-Sailing-Families.jpg
ORGANIZER;CN="Penobscot Marine Museum":MAILTO:jganskop@pmm-maine.org
END:VEVENT
END:VCALENDAR