BEGIN:VCALENDAR
VERSION:2.0
PRODID:-//Penobscot Marine Museum - ECPv6.15.20//NONSGML v1.0//EN
CALSCALE:GREGORIAN
METHOD:PUBLISH
X-WR-CALNAME:Penobscot Marine Museum
X-ORIGINAL-URL:https://penobscotmarinemuseum.org
X-WR-CALDESC:Events for Penobscot Marine Museum
REFRESH-INTERVAL;VALUE=DURATION:PT1H
X-Robots-Tag:noindex
X-PUBLISHED-TTL:PT1H
BEGIN:VTIMEZONE
TZID:UTC
BEGIN:STANDARD
TZOFFSETFROM:+0000
TZOFFSETTO:+0000
TZNAME:UTC
DTSTART:20150101T000000
END:STANDARD
END:VTIMEZONE
BEGIN:VEVENT
DTSTART;TZID=UTC:20160804T190000
DTEND;TZID=UTC:20160804T203000
DTSTAMP:20260424T155126
CREATED:20160406T170359Z
LAST-MODIFIED:20160629T182024Z
UID:4108-1470337200-1470342600@penobscotmarinemuseum.org
SUMMARY:Tugboats
DESCRIPTION:With Captain John Worth\nThursday\, August 4\, 7 pm\, Carver Memorial Gallery\, 11 Church St.\nCost: $8; $5 Members \nCaptain John Worth of Maine Maritime Academy has worked and taught students aboard tugs on Penobscot Bay over the course of his exciting career.  He will share his experiences and discuss the history of assisting cargo ships in the navigation of the Penobscot Bay and River. \nPMM’s Maine Maritime Icons Series \nPurchase Tickets Online
URL:https://penobscotmarinemuseum.org/event-single/tugboats/
LOCATION:Penobscot Marine Museum’s Douglas and Margaret Carver Memorial Art Gallery\, 11 Church St.\, Searsport\, 04974\, United States
CATEGORIES:Lecture
ATTACH;FMTTYPE=image/jpeg:https://penobscotmarinemuseum.org/wp-content/uploads/2016/04/John-Worth.jpg
ORGANIZER;CN="Penobscot Marine Museum":MAILTO:jganskop@pmm-maine.org
END:VEVENT
END:VCALENDAR