BEGIN:VCALENDAR
VERSION:2.0
PRODID:-//Penobscot Marine Museum - ECPv5.8.0//NONSGML v1.0//EN
CALSCALE:GREGORIAN
METHOD:PUBLISH
X-WR-CALNAME:Penobscot Marine Museum
X-ORIGINAL-URL:https://penobscotmarinemuseum.org
X-WR-CALDESC:Events for Penobscot Marine Museum
BEGIN:VTIMEZONE
TZID:America/New_York
BEGIN:DAYLIGHT
TZOFFSETFROM:-0500
TZOFFSETTO:-0400
TZNAME:EDT
DTSTART:20140309T070000
END:DAYLIGHT
BEGIN:STANDARD
TZOFFSETFROM:-0400
TZOFFSETTO:-0500
TZNAME:EST
DTSTART:20141102T060000
END:STANDARD
END:VTIMEZONE
BEGIN:VEVENT
DTSTART;TZID=America/New_York:20141016T190000
DTEND;TZID=America/New_York:20141016T210000
DTSTAMP:20210706T210529
CREATED:20141007T005417Z
LAST-MODIFIED:20141007T005417Z
UID:2658-1413486000-1413493200@penobscotmarinemuseum.org
SUMMARY:“Whoop and Drive ’er” – Growing up in Aroostook County\, Maine by David Estey\, Book Signing and Talk at Penobscot Marine Museum
DESCRIPTION:On Thursday\, October 16 from 7:00 p.m. to 9:00 p.m.\, David Estey will be at the Penobscot Marine Museum in Searsport to discuss and sign “Whoop and Drive ’er” – Growing up in Aroostook County\, Maine. “A humorous labor of love\,” is how Estey describes his new illustrated memoir about colorful family members\, friends\, and characters he experienced while growing up in Fort Fairfield\, Presque Isle\, and Belfast\, Maine. The memoir begins in Aroostook\, but Estey attended the Rhode Island School of Design\, travelled throughout Europe\, was in the army\, worked for the IRS\, and lived in the South\, before returning to Maine for a second career as an award-winning artist. Estey’s paintings will be on display for the event. \n \n“In this entertaining and often moving memoir … vintage photographs and Estey’s portraits and paintings are the perfect accompaniment to a storyline that will leave you laughing and inspire a tear or two\,” says art critic Carl Little about “Whoop and Drive ’er” – Growing up in Aroostook County\, Maine. Kathryn Olmstead\, editor of Echoes magazine and a columnist for Bangor Daily News writes\, “David’s memoir is laced with humor and filled with anecdotes that make it a tribute to small-town America.” The 144-page memoir includes 41 photos or drawings and paintings David Estey did over the years. It will be available in the Museum store as well as at Left Bank Books in Belfast. \nThe Penobscot Marine Museum is on Route One in Searsport\, Maine and has seven new exhibits and over fifty programs and events during the 2014 season. Its three acre\, ten building campus is open through October 19. Museum hours are Monday through Saturday\, 10:00 am to 5:00 pm\, and Sunday noon to 5:00 pm through Sunday. Admission is free to members and Searsport residents.
URL:https://penobscotmarinemuseum.org/event-single/whoop-and-drive-er-growing-up-in-aroostook-county-maine-by-david-estey-book-signing-and-talk-at-penobscot-marine-museum/
LOCATION:Penobscot Marine Museum\, 2 Church Street\, Searsport\, 04974\, United States
CATEGORIES:Special Event
ATTACH;FMTTYPE=image/jpeg:https://penobscotmarinemuseum.org/welcome/wp-content/uploads/2014/10/2_David-Estey-portrait-photo.jpg
ORGANIZER;CN="Penobscot%20Marine%20Museum":MAILTO:jganskop@pmm-maine.org
END:VEVENT
END:VCALENDAR