BEGIN:VCALENDAR
VERSION:2.0
PRODID:-//Penobscot Marine Museum - ECPv6.15.20//NONSGML v1.0//EN
CALSCALE:GREGORIAN
METHOD:PUBLISH
X-WR-CALNAME:Penobscot Marine Museum
X-ORIGINAL-URL:https://penobscotmarinemuseum.org
X-WR-CALDESC:Events for Penobscot Marine Museum
REFRESH-INTERVAL;VALUE=DURATION:PT1H
X-Robots-Tag:noindex
X-PUBLISHED-TTL:PT1H
BEGIN:VTIMEZONE
TZID:UTC
BEGIN:STANDARD
TZOFFSETFROM:+0000
TZOFFSETTO:+0000
TZNAME:UTC
DTSTART:20150101T000000
END:STANDARD
END:VTIMEZONE
BEGIN:VEVENT
DTSTART;TZID=UTC:20160421T170000
DTEND;TZID=UTC:20160421T190000
DTSTAMP:20260424T161153
CREATED:20160413T210057Z
LAST-MODIFIED:20160413T210057Z
UID:4161-1461258000-1461265200@penobscotmarinemuseum.org
SUMMARY:Wine Tasting Event To Benefit Penobscot Marine Museum
DESCRIPTION:Taste delicious locally crafted wine Thursday\, April 21st from 5-7 pm at The Good Kettle in Stockton Springs. The wine tasting event will introduce you to Maine vineyards from across the state\, with 10 % of the proceeds benefiting the Penobscot Marine Museum. \nThe Good Kettle offers a wide selection of wine for a range of budgets and tastes\, and a variety of choices from local wines to some of the best wines from all over the world. The Good Kettle hosts a wine tasting benefit for area non-profits once a month from April to December featuring local wineries. \nLocated on 247 US Route 1 in Stockton Springs\, The Good Kettle is a Home Style Eat-In or Carry Out restaurant offering a wines and beer\, Maine-made local products\, and breakfast and lunch. \nFor more information contact The Good Kettle at 207.567.2035 or info@thegoodkettle.com or visit https://thegoodkettle.wordpress.com.
URL:https://penobscotmarinemuseum.org/event-single/wine-tasting-event-to-benefit-penobscot-marine-museum/
LOCATION:ME\, United States
CATEGORIES:Fund Raiser
ATTACH;FMTTYPE=image/jpeg:https://penobscotmarinemuseum.org/wp-content/uploads/2016/04/goodkttlelogosmcl.jpg
ORGANIZER;CN="Penobscot Marine Museum":MAILTO:jganskop@pmm-maine.org
END:VEVENT
END:VCALENDAR