BEGIN:VCALENDAR
VERSION:2.0
PRODID:-//Penobscot Marine Museum - ECPv5.5.0.1//NONSGML v1.0//EN
CALSCALE:GREGORIAN
METHOD:PUBLISH
X-WR-CALNAME:Penobscot Marine Museum
X-ORIGINAL-URL:https://penobscotmarinemuseum.org
X-WR-CALDESC:Events for Penobscot Marine Museum
BEGIN:VTIMEZONE
TZID:America/New_York
BEGIN:DAYLIGHT
TZOFFSETFROM:-0500
TZOFFSETTO:-0400
TZNAME:EDT
DTSTART:20210314T070000
END:DAYLIGHT
BEGIN:STANDARD
TZOFFSETFROM:-0400
TZOFFSETTO:-0500
TZNAME:EST
DTSTART:20211107T060000
END:STANDARD
END:VTIMEZONE
BEGIN:VEVENT
DTSTART;TZID=America/New_York:20210423T120000
DTEND;TZID=America/New_York:20210423T130000
DTSTAMP:20210420T230704
CREATED:20210323T184719Z
LAST-MODIFIED:20210323T184719Z
UID:7986-1619179200-1619182800@penobscotmarinemuseum.org
SUMMARY:Peek into Paintings
DESCRIPTION:April 23rd at noon\nFree on Facebook \nThe oil painting of the schooner NANCY HANKS was created by Antonio Jacobsen in 1918\, soon after it was launched. Most of the ship’s portraits we have explored during Peek into Paintings are from the mid to late 1800s. Why was there a brief resurgence in wooden shipbuilding in the late 1910s? Find out more by joining us on Facebook Live at noon!
URL:https://penobscotmarinemuseum.org/event-single/peek-into-paintings-on-facebook-live-4-23/
LOCATION:Facebook.com/Penobscot\, https://www.facebook.com/Penobscot
CATEGORIES:Family Event
ATTACH;FMTTYPE=image/jpeg:https://penobscotmarinemuseum.org/welcome/wp-content/uploads/2021/03/4-23-19621401-large.jpg
ORGANIZER;CN="Penobscot%20Marine%20Museum":MAILTO:jganskop@pmm-maine.org
END:VEVENT
BEGIN:VEVENT
DTSTART;TZID=America/New_York:20210421T110000
DTEND;TZID=America/New_York:20210421T120000
DTSTAMP:20210420T230704
CREATED:20210323T184250Z
LAST-MODIFIED:20210323T184250Z
UID:7983-1619002800-1619006400@penobscotmarinemuseum.org
SUMMARY:Museum by Mail - Hello!
DESCRIPTION:April 21st at 11am on Zoom or on your own anytime\n$10/kit (up to 3 kids) including shipping\, Register here.\nRegister by April 15th to ensure materials arrive before Zoom workshop. \nWhat different ways have people communicated over long distances in the past 200 years? Explore letter writing\, postcards\, signal flags\, telegraph\, and telephone! Kit includes a Museum by Mail – Hello! Workbook\, historic images\, a BINGO game\, stamps and more! Choose how you and your kids participate: DIY with included instructions\, watch the videos on YouTube\, or join us on Zoom at 11am on April 21st during April break. Links provided with registration. Perfect for ages 6-12\, adult help may be needed.
URL:https://penobscotmarinemuseum.org/event-single/museum-by-mail-hello/
LOCATION:Zoom
CATEGORIES:Family Event
ATTACH;FMTTYPE=image/jpeg:https://penobscotmarinemuseum.org/welcome/wp-content/uploads/2021/03/4-21-Museum-by-Mail-Hello.jpg
ORGANIZER;CN="Penobscot%20Marine%20Museum":MAILTO:jganskop@pmm-maine.org
END:VEVENT
END:VCALENDAR