BEGIN:VCALENDAR
VERSION:2.0
PRODID:-//Penobscot Marine Museum - ECPv6.15.20//NONSGML v1.0//EN
CALSCALE:GREGORIAN
METHOD:PUBLISH
X-WR-CALNAME:Penobscot Marine Museum
X-ORIGINAL-URL:https://penobscotmarinemuseum.org
X-WR-CALDESC:Events for Penobscot Marine Museum
REFRESH-INTERVAL;VALUE=DURATION:PT1H
X-Robots-Tag:noindex
X-PUBLISHED-TTL:PT1H
BEGIN:VTIMEZONE
TZID:America/New_York
BEGIN:DAYLIGHT
TZOFFSETFROM:-0500
TZOFFSETTO:-0400
TZNAME:EDT
DTSTART:20130310T070000
END:DAYLIGHT
BEGIN:STANDARD
TZOFFSETFROM:-0400
TZOFFSETTO:-0500
TZNAME:EST
DTSTART:20131103T060000
END:STANDARD
BEGIN:DAYLIGHT
TZOFFSETFROM:-0500
TZOFFSETTO:-0400
TZNAME:EDT
DTSTART:20140309T070000
END:DAYLIGHT
BEGIN:STANDARD
TZOFFSETFROM:-0400
TZOFFSETTO:-0500
TZNAME:EST
DTSTART:20141102T060000
END:STANDARD
BEGIN:DAYLIGHT
TZOFFSETFROM:-0500
TZOFFSETTO:-0400
TZNAME:EDT
DTSTART:20150308T070000
END:DAYLIGHT
BEGIN:STANDARD
TZOFFSETFROM:-0400
TZOFFSETTO:-0500
TZNAME:EST
DTSTART:20151101T060000
END:STANDARD
END:VTIMEZONE
BEGIN:VEVENT
DTSTART;TZID=America/New_York:20141018T110000
DTEND;TZID=America/New_York:20141018T150000
DTSTAMP:20260421T154948
CREATED:20140806T232115Z
LAST-MODIFIED:20140822T143223Z
UID:10000016-1413630000-1413644400@penobscotmarinemuseum.org
SUMMARY:Central Maine craft group will demonstrate knitting
DESCRIPTION:Artisan Days:  Central Maine craft group will demonstrate knitting.  Sponsored by Knickerbocker Group.  Free with PMM admission.
URL:https://penobscotmarinemuseum.org/event-single/central-maine-craft-group-will-demonstrate-knitting/
LOCATION:Penobscot Marine Museum\, 2 Church Street\, Searsport\, 04974\, United States
CATEGORIES:Artisan Days
ATTACH;FMTTYPE=image/jpeg:https://penobscotmarinemuseum.org/wp-content/uploads/2014/08/yarn-100947_640.jpg
ORGANIZER;CN="Penobscot Marine Museum":MAILTO:jganskop@pmm-maine.org
END:VEVENT
BEGIN:VEVENT
DTSTART;TZID=America/New_York:20140927T110000
DTEND;TZID=America/New_York:20140927T150000
DTSTAMP:20260421T154948
CREATED:20140806T230924Z
LAST-MODIFIED:20140923T220252Z
UID:10000015-1411815600-1411830000@penobscotmarinemuseum.org
SUMMARY:Sam Matinelli will demonstrate the making of hand-made oars
DESCRIPTION:CANCELED \nSam Matinelli will demonstrate the making of hand-made oars.  Sam is an oarmaker with Shaw & Tenney\, makers of oars and paddles in Maine since 1958.  Sponsored by Knickerbocker Group.\nFree with PMM admission.
URL:https://penobscotmarinemuseum.org/event-single/sam-matinelli-will-demonstrate-the-making-of-hand-made-oars/
LOCATION:Penobscot Marine Museum\, 2 Church Street\, Searsport\, 04974\, United States
CATEGORIES:Artisan Days
ATTACH;FMTTYPE=image/jpeg:https://penobscotmarinemuseum.org/wp-content/uploads/2014/08/Sam-Matinelli-Oar.jpg
ORGANIZER;CN="Penobscot Marine Museum":MAILTO:jganskop@pmm-maine.org
END:VEVENT
BEGIN:VEVENT
DTSTART;TZID=America/New_York:20140906T110000
DTEND;TZID=America/New_York:20140906T150000
DTSTAMP:20260421T154948
CREATED:20140806T225803Z
LAST-MODIFIED:20140822T142825Z
UID:10000097-1410001200-1410015600@penobscotmarinemuseum.org
SUMMARY:New England Lace Group (NELG) will demonstrate the historic skill of lace-making.
DESCRIPTION:Artisan Days:  New England Lace Group (NELG) will demonstrate the historic skill of lace-making.  NELG promotes the making\, collecting\, and studying of all laces throughout the New England area.  Many 19th century portraits in Penobscot Marine Museum show women wearing hand-made lace.  Sponsored by Knickerbocker Group.  Free with PMM admission.
URL:https://penobscotmarinemuseum.org/event-single/new-england-lace-group-nelg-will-demonstrate-the-historic-skill-of-lace-making/
LOCATION:Penobscot Marine Museum\, 2 Church Street\, Searsport\, 04974\, United States
CATEGORIES:Artisan Days
ATTACH;FMTTYPE=image/gif:https://penobscotmarinemuseum.org/wp-content/uploads/2014/08/NELG_Logo.gif
ORGANIZER;CN="Penobscot Marine Museum":MAILTO:jganskop@pmm-maine.org
END:VEVENT
BEGIN:VEVENT
DTSTART;TZID=America/New_York:20140828T110000
DTEND;TZID=America/New_York:20140828T150000
DTSTAMP:20260421T154948
CREATED:20140806T225152Z
LAST-MODIFIED:20140826T021040Z
UID:10000096-1409223600-1409238000@penobscotmarinemuseum.org
SUMMARY:Wooden boatbuilding with Cottrell Boatbuilders
DESCRIPTION:CANCELLED \nWooden boatbuilding with Cottrell Boatbuilders.  Cottrell Boatbuilding builds traditional small craft. Whitehalls\, Wherries\,Tenders\, Daysailers Dories and excels in traditional plank on frame construction.  Sponsored by Knickerbocker Group.  Free with PMM admission. \nWooden boat built by Cottrell Boatbuilders
URL:https://penobscotmarinemuseum.org/event-single/wooden-boatbuilding-with-cottrell-boatbuilders/
LOCATION:Penobscot Marine Museum\, 2 Church Street\, Searsport\, 04974\, United States
CATEGORIES:Artisan Days
ATTACH;FMTTYPE=image/jpeg:https://penobscotmarinemuseum.org/wp-content/uploads/2014/08/Cottrell-Fiddlehead-Tender-Maine-Boat-2014.jpg
ORGANIZER;CN="Penobscot Marine Museum":MAILTO:jganskop@pmm-maine.org
END:VEVENT
BEGIN:VEVENT
DTSTART;TZID=America/New_York:20140821T110000
DTEND;TZID=America/New_York:20140821T150000
DTSTAMP:20260421T154948
CREATED:20140806T224714Z
LAST-MODIFIED:20140821T220011Z
UID:10000094-1408618800-1408633200@penobscotmarinemuseum.org
SUMMARY:Spinning\, weaving and knitting with Alice Seeger.
DESCRIPTION:Spinning\, weaving and knitting with Alice Seeger.  Watch spinning on a traditional 18th century “Great Wheel”\, try your hand at weaving.   In the 17th and 18th centuries wool was hand-spun and cloth was hand-woven.  Sponsored by Knickerbocker Group.  Free with PMM admission. \nAlice Seeger
URL:https://penobscotmarinemuseum.org/event-single/spinning-weaving-and-knitting-with-alice-seeger-2/
LOCATION:Penobscot Marine Museum\, 2 Church Street\, Searsport\, 04974\, United States
CATEGORIES:Artisan Days
ATTACH;FMTTYPE=image/jpeg:https://penobscotmarinemuseum.org/wp-content/uploads/2014/05/aliceloom.jpg
ORGANIZER;CN="Penobscot Marine Museum":MAILTO:jganskop@pmm-maine.org
END:VEVENT
BEGIN:VEVENT
DTSTART;TZID=America/New_York:20140814T110000
DTEND;TZID=America/New_York:20140814T150000
DTSTAMP:20260421T154948
CREATED:20140806T224329Z
LAST-MODIFIED:20140806T224329Z
UID:10000091-1408014000-1408028400@penobscotmarinemuseum.org
SUMMARY:Spinning\, weaving and knitting with Alice Seeger
DESCRIPTION:Watch spinning on a traditional 18th century “Great Wheel”\, try your hand at weaving.   In the 17th and 18th centuries wool was hand-spun and cloth was hand-woven.  Sponsored by Knickerbocker Group.  Free with PMM admission. \nAlice Seeger
URL:https://penobscotmarinemuseum.org/event-single/spinning-weaving-and-knitting-with-alice-seeger/
LOCATION:Penobscot Marine Museum\, 2 Church Street\, Searsport\, 04974\, United States
CATEGORIES:Artisan Days
ATTACH;FMTTYPE=image/jpeg:https://penobscotmarinemuseum.org/wp-content/uploads/2014/05/aliceloom.jpg
ORGANIZER;CN="Penobscot Marine Museum":MAILTO:jganskop@pmm-maine.org
END:VEVENT
BEGIN:VEVENT
DTSTART;TZID=America/New_York:20140807T110000
DTEND;TZID=America/New_York:20140807T150000
DTSTAMP:20260421T154948
CREATED:20140806T221619Z
LAST-MODIFIED:20140806T221813Z
UID:10000089-1407409200-1407423600@penobscotmarinemuseum.org
SUMMARY:Traditional Knotted Netting Demonstrated at Penobscot Marine Museum
DESCRIPTION:Knotted netting\, or fishnetting\, is one of the oldest human crafts\, and is still used in Third World countries to make fishing nets\, hammocks and bags.  Many Mainers remember when lobstermen made their own bait bags using knotted netting.  Stephanie Crossman\, whose family lives on Vinalhaven\, learned fishnetting twenty-five years ago from her husband’s great-grandmother\, Gram J\, who was ninety-two at the time.  Crossman was the only family member to take up the craft\, and she inherited the net stand made for Gram J by her uncle\, as well as Gram J’s\, hand-carved needles and mesh boards.  Stephanie Crossman will be demonstrating fishnetting at Penobscot Marine Museum on Thursday\, August 7th from 11:00 to 3:00 pm.  The demonstration is free with museum admission. \nFishnetting bags by Stephanie Crossman \nStephanie Crossman’s fishnetting demonstration is part of Artisan Days: Demonstrations of 19th Century Crafts at Penobscot Marine Museum.  This program runs Thursdays in July and August and on Saturdays in September and October\, from 11:00 am to 3:00 pm.  It is a collaboration with Boothbay Railway Village in Boothbay\, Maine and is sponsored by Knickerbocker Group: Designers\, Builders\, Cabinetmakers\, Caretakers. \nPenobscot Marine Museum recreates an historic seacoast village and has fun family activities daily.  Penobscot Marine Museum\, on Route One\, 40 East Main Street\, Searsport\, Maine is open May 24 through October 19\, Monday through Saturday\, 10:00 am to 5:00 pm\, Sunday noon to 5:00 pm.  Admission is free for Searsport residents and museum members. For more information go to www.penobscotmarinemuseum.org or call 207-548-2529 or 0334.
URL:https://penobscotmarinemuseum.org/event-single/traditional-knotted-netting-demonstrated-at-penobscot-marine-museum/
LOCATION:Penobscot Marine Museum\, 2 Church Street\, Searsport\, 04974\, United States
CATEGORIES:Artisan Days
ATTACH;FMTTYPE=image/jpeg:https://penobscotmarinemuseum.org/wp-content/uploads/2014/07/fishnet-bags.jpg
ORGANIZER;CN="Penobscot Marine Museum":MAILTO:jganskop@pmm-maine.org
END:VEVENT
END:VCALENDAR