BEGIN:VCALENDAR
VERSION:2.0
PRODID:-//Penobscot Marine Museum - ECPv6.15.20//NONSGML v1.0//EN
CALSCALE:GREGORIAN
METHOD:PUBLISH
X-ORIGINAL-URL:https://penobscotmarinemuseum.org
X-WR-CALDESC:Events for Penobscot Marine Museum
REFRESH-INTERVAL;VALUE=DURATION:PT1H
X-Robots-Tag:noindex
X-PUBLISHED-TTL:PT1H
BEGIN:VTIMEZONE
TZID:America/New_York
BEGIN:DAYLIGHT
TZOFFSETFROM:-0500
TZOFFSETTO:-0400
TZNAME:EDT
DTSTART:20160313T070000
END:DAYLIGHT
BEGIN:STANDARD
TZOFFSETFROM:-0400
TZOFFSETTO:-0500
TZNAME:EST
DTSTART:20161106T060000
END:STANDARD
BEGIN:DAYLIGHT
TZOFFSETFROM:-0500
TZOFFSETTO:-0400
TZNAME:EDT
DTSTART:20170312T070000
END:DAYLIGHT
BEGIN:STANDARD
TZOFFSETFROM:-0400
TZOFFSETTO:-0500
TZNAME:EST
DTSTART:20171105T060000
END:STANDARD
BEGIN:DAYLIGHT
TZOFFSETFROM:-0500
TZOFFSETTO:-0400
TZNAME:EDT
DTSTART:20180311T070000
END:DAYLIGHT
BEGIN:STANDARD
TZOFFSETFROM:-0400
TZOFFSETTO:-0500
TZNAME:EST
DTSTART:20181104T060000
END:STANDARD
BEGIN:DAYLIGHT
TZOFFSETFROM:-0500
TZOFFSETTO:-0400
TZNAME:EDT
DTSTART:20190310T070000
END:DAYLIGHT
BEGIN:STANDARD
TZOFFSETFROM:-0400
TZOFFSETTO:-0500
TZNAME:EST
DTSTART:20191103T060000
END:STANDARD
END:VTIMEZONE
BEGIN:VTIMEZONE
TZID:UTC
BEGIN:STANDARD
TZOFFSETFROM:+0000
TZOFFSETTO:+0000
TZNAME:UTC
DTSTART:20150101T000000
END:STANDARD
END:VTIMEZONE
BEGIN:VEVENT
DTSTART;TZID=America/New_York:20180830T173000
DTEND;TZID=America/New_York:20180830T183000
DTSTAMP:20260421T234849
CREATED:20180329T141039Z
LAST-MODIFIED:20180329T141215Z
UID:10000235-1535650200-1535653800@penobscotmarinemuseum.org
SUMMARY:Sources of Inspiration: Cassie Stymest\, Educator
DESCRIPTION:August 30; 5:30-6:30pm\nSources of Inspiration: Cassie Stymest\, Educator\nAdmissions Center\nCost: $5 for members\, $8 for non-members \nEducational Passages’s Program Director Cassie Stymest explains how they use GPS-equipped models to spread ocean and environmental literacy.  Classrooms around the world follow the models and explore oceanic phenomena.
URL:https://penobscotmarinemuseum.org/event-single/sources-of-inspiration-cassie-stymest-educator/
LOCATION:Admissions Center\, 5 Church St\, Searsport\, ME\, 04974\, United States
CATEGORIES:Demonstration
ATTACH;FMTTYPE=image/jpeg:https://penobscotmarinemuseum.org/wp-content/uploads/2018/03/8-30.jpg
ORGANIZER;CN="Penobscot Marine Museum":MAILTO:jganskop@pmm-maine.org
END:VEVENT
BEGIN:VEVENT
DTSTART;TZID=America/New_York:20180823T173000
DTEND;TZID=America/New_York:20180823T183000
DTSTAMP:20260421T234849
CREATED:20180329T140107Z
LAST-MODIFIED:20180329T140330Z
UID:10000234-1535045400-1535049000@penobscotmarinemuseum.org
SUMMARY:Sources of Inspiration: Al Ross\, Model Planmaker
DESCRIPTION:August 23; 5:30-6:30pm\nSources of Inspiration: Al Ross\, Model Planmaker\nAdmissions Center\nCost: $5 for members\, $8 for non-members \nAl Ross designs model plans for BlueJacket Shipcrafters Inc. in Searsport.   He will discuss which designs inspire him the most and why.
URL:https://penobscotmarinemuseum.org/event-single/sources-of-inspiration-al-ross-model-planmaker/
LOCATION:Admissions Center\, 5 Church St\, Searsport\, ME\, 04974\, United States
CATEGORIES:Demonstration
ATTACH;FMTTYPE=image/jpeg:https://penobscotmarinemuseum.org/wp-content/uploads/2018/03/8-23.jpg
ORGANIZER;CN="Penobscot Marine Museum":MAILTO:jganskop@pmm-maine.org
END:VEVENT
BEGIN:VEVENT
DTSTART;TZID=America/New_York:20180712T173000
DTEND;TZID=America/New_York:20180712T183000
DTSTAMP:20260421T234849
CREATED:20180329T120140Z
LAST-MODIFIED:20180329T122313Z
UID:10000092-1531416600-1531420200@penobscotmarinemuseum.org
SUMMARY:Sources of Inspiration: Ken Weeks\, Canoe model maker
DESCRIPTION:July 12; 5:30-6:30pm\nSources of Inspiration: Ken Weeks\, Canoe model maker\nAdmissions Center\nCost: $5 for members\, $8 for non-members \nKen Weeks builds canoes in the traditional manner in Blue Hill.  He will compare the building of a birch bark canoe in miniature with the 42 foot model currently under construction.
URL:https://penobscotmarinemuseum.org/event-single/sources-of-inspiration-ken-weeks-canoe-model-maker/
LOCATION:Admissions Center\, 5 Church St\, Searsport\, ME\, 04974\, United States
CATEGORIES:Demonstration
ATTACH;FMTTYPE=image/jpeg:https://penobscotmarinemuseum.org/wp-content/uploads/2018/03/7-12.jpg
ORGANIZER;CN="Penobscot Marine Museum":MAILTO:jganskop@pmm-maine.org
END:VEVENT
BEGIN:VEVENT
DTSTART;TZID=America/New_York:20180623T110000
DTEND;TZID=America/New_York:20180623T140000
DTSTAMP:20260421T234849
CREATED:20180328T223650Z
LAST-MODIFIED:20180328T223650Z
UID:10000083-1529751600-1529762400@penobscotmarinemuseum.org
SUMMARY:Soling Remote Control Model Demonstration
DESCRIPTION:June 23; 11am-2pm\nSoling Remote Control Model Demonstration\nModel Pond\nCost: Free with Museum Admission \nThe Soling racing yacht is a popular one-design class.  This miniature version is one of the most popular classes and has the largest number of registered models within the American Model Yachting Association racing class system. \nPhoto by VYGOcommons
URL:https://penobscotmarinemuseum.org/event-single/soling-remote-control-model-demonstration/
LOCATION:PMM Model Pond\, 2 Church St.\, Searsport\, ME\, 04974\, United States
CATEGORIES:Demonstration
ATTACH;FMTTYPE=image/jpeg:https://penobscotmarinemuseum.org/wp-content/uploads/2018/03/6-23.jpg
ORGANIZER;CN="Penobscot Marine Museum":MAILTO:jganskop@pmm-maine.org
END:VEVENT
BEGIN:VEVENT
DTSTART;TZID=America/New_York:20170805T130000
DTEND;TZID=America/New_York:20170805T160000
DTSTAMP:20260421T234849
CREATED:20170510T181241Z
LAST-MODIFIED:20170510T181241Z
UID:10000189-1501938000-1501948800@penobscotmarinemuseum.org
SUMMARY:Netmaking with Mike Dassatt
DESCRIPTION:Demonstration\nNetmaking with Mike Dassatt\nSaturday\, August 5\, 1 pm to 4 pm\nFree with admission \nBelfast lobsterman Mike Dassatt still makes his own net heads for his lobster traps. Join him to learn about net head making and the net head’s function in a lobster trap.
URL:https://penobscotmarinemuseum.org/event-single/netmaking-with-mike-dassatt/
LOCATION:PMM Visitors Center\, 2 Church St.\, Searsport\, ME\, 04974\, United States
CATEGORIES:Demonstration
ATTACH;FMTTYPE=image/jpeg:https://penobscotmarinemuseum.org/wp-content/uploads/2017/05/8-5.jpg
ORGANIZER;CN="Penobscot Marine Museum":MAILTO:jganskop@pmm-maine.org
END:VEVENT
BEGIN:VEVENT
DTSTART;TZID=America/New_York:20170720T110000
DTEND;TZID=America/New_York:20170720T140000
DTSTAMP:20260421T234849
CREATED:20170510T180101Z
LAST-MODIFIED:20170510T180101Z
UID:10000185-1500548400-1500559200@penobscotmarinemuseum.org
SUMMARY:Net Making with Stephanie Crossman
DESCRIPTION:Demonstration\nNet Making with Stephanie Crossman\nThursday\, July 20\, 11 am to 2 pm\nFree for admission \nStephanie Crossman learned the craft of fishnetting on the island of Vinalhaven from her husband’s great-grandmother\, who had made her living in the net factory on the island. Today\, Stephanie using this traditional technique to create works of art and functional everyday bags. Join Stephanie to watch her at work\, share the history of fishnetting and perhaps go home with a treasure from her pop-up store.
URL:https://penobscotmarinemuseum.org/event-single/net-making-with-stephanie-crossman/
LOCATION:Penobscot Marine Museum\, 2 Church Street\, Searsport\, 04974\, United States
CATEGORIES:Demonstration
ATTACH;FMTTYPE=image/jpeg:https://penobscotmarinemuseum.org/wp-content/uploads/2017/05/7-20.jpg
ORGANIZER;CN="Penobscot Marine Museum":MAILTO:jganskop@pmm-maine.org
END:VEVENT
BEGIN:VEVENT
DTSTART;TZID=America/New_York:20170701T130000
DTEND;TZID=America/New_York:20170701T160000
DTSTAMP:20260421T234849
CREATED:20170510T175250Z
LAST-MODIFIED:20170510T175250Z
UID:10000069-1498914000-1498924800@penobscotmarinemuseum.org
SUMMARY:Netmaking with Jacqueline Davidson
DESCRIPTION:Demonstration\nNetmaking with Jacqueline Davidson \nSaturday\, July 1\, 1 pm to 4 pm\nFree with admission\nJacqueline Davidson is author of the book Nets Through Time: The Technique and Art of Knotted Netting. She learned her craft at the Haystack Mountain School of Crafts in Deer Isle\, and teaches the technique to others. She will discuss the knot used to make diamond mesh (used in basketball nets) and square mesh (used in tennis nets).
URL:https://penobscotmarinemuseum.org/event-single/netmaking-with-jacqueline-davidson/
LOCATION:Penobscot Marine Museum\, 2 Church Street\, Searsport\, 04974\, United States
CATEGORIES:Demonstration
ATTACH;FMTTYPE=image/jpeg:https://penobscotmarinemuseum.org/wp-content/uploads/2017/05/7-1.jpg
ORGANIZER;CN="Penobscot Marine Museum":MAILTO:jganskop@pmm-maine.org
END:VEVENT
BEGIN:VEVENT
DTSTART;TZID=UTC:20161110T183000
DTEND;TZID=UTC:20161110T200000
DTSTAMP:20260421T234849
CREATED:20160406T221954Z
LAST-MODIFIED:20160916T035810Z
UID:10000155-1478802600-1478808000@penobscotmarinemuseum.org
SUMMARY:How To Make A Gingerbread House
DESCRIPTION:With Lin Calista\nCANCELED\nThursday\, November 10\, 6:30 pm to 8 pm\, Museum Library\, 11 Church St.\nAdmission is free. \nLearn how to construct a gingerbread masterpiece!  Ideas\, templates\, recipes\, and tips.\nDemonstration only.
URL:https://penobscotmarinemuseum.org/event-single/how-to-make-a-gingerbread-house/
LOCATION:PMM’s Stephen Phillips Memorial Library\, 11 Church St\, Searsport\, 04974\, United States
CATEGORIES:Demonstration
ATTACH;FMTTYPE=image/jpeg:https://penobscotmarinemuseum.org/wp-content/uploads/2016/04/gingerbread-house-1.jpg
ORGANIZER;CN="Penobscot Marine Museum":MAILTO:jganskop@pmm-maine.org
END:VEVENT
BEGIN:VEVENT
DTSTART;TZID=UTC:20161001T090000
DTEND;TZID=UTC:20161001T120000
DTSTAMP:20260421T234849
CREATED:20160406T215116Z
LAST-MODIFIED:20160916T040448Z
UID:10000152-1475312400-1475323200@penobscotmarinemuseum.org
SUMMARY:Framing II: And How Am I Going To Frame This?
DESCRIPTION:With Museum Framer Lin Calista\nCANCELED\nSaturday\, October 1\, 9 am to noon\, Museum Library\, 11 Church St.\nCost: $20\, $10 for members. \nA demonstration\, with some hands-on examples\, on how to frame delicate and three-dimensional items\, best ways to mount needlework\, and framing with front and back exposure.   Limited to 15\, please register or purchase advance tickets in the Museum Store\, online\, or by phone at 207-548-0334 or 207-548-2529.
URL:https://penobscotmarinemuseum.org/event-single/framing-ii-and-how-am-i-going-to-frame-this/
LOCATION:PMM’s Stephen Phillips Memorial Library\, 11 Church St\, Searsport\, 04974\, United States
CATEGORIES:Demonstration
ATTACH;FMTTYPE=image/jpeg:https://penobscotmarinemuseum.org/wp-content/uploads/2016/04/Frame-shop.jpg
ORGANIZER;CN="Penobscot Marine Museum":MAILTO:jganskop@pmm-maine.org
END:VEVENT
END:VCALENDAR