BEGIN:VCALENDAR
VERSION:2.0
PRODID:-//Penobscot Marine Museum - ECPv6.15.20//NONSGML v1.0//EN
CALSCALE:GREGORIAN
METHOD:PUBLISH
X-WR-CALNAME:Penobscot Marine Museum
X-ORIGINAL-URL:https://penobscotmarinemuseum.org
X-WR-CALDESC:Events for Penobscot Marine Museum
REFRESH-INTERVAL;VALUE=DURATION:PT1H
X-Robots-Tag:noindex
X-PUBLISHED-TTL:PT1H
BEGIN:VTIMEZONE
TZID:America/New_York
BEGIN:DAYLIGHT
TZOFFSETFROM:-0500
TZOFFSETTO:-0400
TZNAME:EDT
DTSTART:20200308T070000
END:DAYLIGHT
BEGIN:STANDARD
TZOFFSETFROM:-0400
TZOFFSETTO:-0500
TZNAME:EST
DTSTART:20201101T060000
END:STANDARD
BEGIN:DAYLIGHT
TZOFFSETFROM:-0500
TZOFFSETTO:-0400
TZNAME:EDT
DTSTART:20210314T070000
END:DAYLIGHT
BEGIN:STANDARD
TZOFFSETFROM:-0400
TZOFFSETTO:-0500
TZNAME:EST
DTSTART:20211107T060000
END:STANDARD
BEGIN:DAYLIGHT
TZOFFSETFROM:-0500
TZOFFSETTO:-0400
TZNAME:EDT
DTSTART:20220313T070000
END:DAYLIGHT
BEGIN:STANDARD
TZOFFSETFROM:-0400
TZOFFSETTO:-0500
TZNAME:EST
DTSTART:20221106T060000
END:STANDARD
END:VTIMEZONE
BEGIN:VEVENT
DTSTART;TZID=America/New_York:20211007T180000
DTEND;TZID=America/New_York:20211007T193000
DTSTAMP:20260422T223017
CREATED:20210917T231344Z
LAST-MODIFIED:20210924T141123Z
UID:10000245-1633629600-1633635000@penobscotmarinemuseum.org
SUMMARY:“Windjammers of Penobscot Bay” Film Screening + Discussion Panel
DESCRIPTION:October 7th\, 6pm on Zoom\nFree\, suggested admission $5\nReserve your tickets here. \nClimb aboard the beautifully restored ships of North America’s largest fleet of historic schooners\, and depart Camden\, Maine\, to cruise the pristine waters of the Penobscot Bay. With in-depth archival materials and interviews with captains and crew\, maritime historians\, and passengers\, filmmaker Dan Lambert explores the history and evolution of Midcoast Maine’s majestic Windjammers while taking viewers on a voyage that captures the feeling of wind and sea spray and the unique thrill of traveling under sail-power. Following the film will be a panel discussion including the filmmaker Dan Lambert\, Chair and Co-Founder of the Sail Power and Steam Museum\, and others interviewed for the film or associated with the windjammers. This film is co-hosted by the Sail Power and Steam Museum.
URL:https://penobscotmarinemuseum.org/event-single/windjammers-of-penobscot-bay-film-screening-discussion-panel/
LOCATION:Zoom
CATEGORIES:Film Screening
ATTACH;FMTTYPE=image/jpeg:https://penobscotmarinemuseum.org/wp-content/uploads/2021/09/10-7-21.jpg
ORGANIZER;CN="Penobscot Marine Museum":MAILTO:jganskop@pmm-maine.org
END:VEVENT
END:VCALENDAR