BEGIN:VCALENDAR
VERSION:2.0
PRODID:-//Penobscot Marine Museum - ECPv6.15.20//NONSGML v1.0//EN
CALSCALE:GREGORIAN
METHOD:PUBLISH
X-WR-CALNAME:Penobscot Marine Museum
X-ORIGINAL-URL:https://penobscotmarinemuseum.org
X-WR-CALDESC:Events for Penobscot Marine Museum
REFRESH-INTERVAL;VALUE=DURATION:PT1H
X-Robots-Tag:noindex
X-PUBLISHED-TTL:PT1H
BEGIN:VTIMEZONE
TZID:America/New_York
BEGIN:DAYLIGHT
TZOFFSETFROM:-0500
TZOFFSETTO:-0400
TZNAME:EDT
DTSTART:20140309T070000
END:DAYLIGHT
BEGIN:STANDARD
TZOFFSETFROM:-0400
TZOFFSETTO:-0500
TZNAME:EST
DTSTART:20141102T060000
END:STANDARD
BEGIN:DAYLIGHT
TZOFFSETFROM:-0500
TZOFFSETTO:-0400
TZNAME:EDT
DTSTART:20150308T070000
END:DAYLIGHT
BEGIN:STANDARD
TZOFFSETFROM:-0400
TZOFFSETTO:-0500
TZNAME:EST
DTSTART:20151101T060000
END:STANDARD
BEGIN:DAYLIGHT
TZOFFSETFROM:-0500
TZOFFSETTO:-0400
TZNAME:EDT
DTSTART:20160313T070000
END:DAYLIGHT
BEGIN:STANDARD
TZOFFSETFROM:-0400
TZOFFSETTO:-0500
TZNAME:EST
DTSTART:20161106T060000
END:STANDARD
BEGIN:DAYLIGHT
TZOFFSETFROM:-0500
TZOFFSETTO:-0400
TZNAME:EDT
DTSTART:20170312T070000
END:DAYLIGHT
BEGIN:STANDARD
TZOFFSETFROM:-0400
TZOFFSETTO:-0500
TZNAME:EST
DTSTART:20171105T060000
END:STANDARD
BEGIN:DAYLIGHT
TZOFFSETFROM:-0500
TZOFFSETTO:-0400
TZNAME:EDT
DTSTART:20180311T070000
END:DAYLIGHT
BEGIN:STANDARD
TZOFFSETFROM:-0400
TZOFFSETTO:-0500
TZNAME:EST
DTSTART:20181104T060000
END:STANDARD
BEGIN:DAYLIGHT
TZOFFSETFROM:-0500
TZOFFSETTO:-0400
TZNAME:EDT
DTSTART:20190310T070000
END:DAYLIGHT
BEGIN:STANDARD
TZOFFSETFROM:-0400
TZOFFSETTO:-0500
TZNAME:EST
DTSTART:20191103T060000
END:STANDARD
BEGIN:DAYLIGHT
TZOFFSETFROM:-0500
TZOFFSETTO:-0400
TZNAME:EDT
DTSTART:20200308T070000
END:DAYLIGHT
BEGIN:STANDARD
TZOFFSETFROM:-0400
TZOFFSETTO:-0500
TZNAME:EST
DTSTART:20201101T060000
END:STANDARD
END:VTIMEZONE
BEGIN:VTIMEZONE
TZID:UTC
BEGIN:STANDARD
TZOFFSETFROM:+0000
TZOFFSETTO:+0000
TZNAME:UTC
DTSTART:20150101T000000
END:STANDARD
END:VTIMEZONE
BEGIN:VEVENT
DTSTART;TZID=America/New_York:20190714T170000
DTEND;TZID=America/New_York:20190714T190000
DTSTAMP:20260421T190552
CREATED:20190418T231559Z
LAST-MODIFIED:20190604T202505Z
UID:10000281-1563123600-1563130800@penobscotmarinemuseum.org
SUMMARY:Susan Tobey White's Lobstering Women Of Maine Exhibition Reception
DESCRIPTION:Sunday\, July 14\, 5pm-7pm\nFREE\nExhibit sponsored by Hamilton Marine\nPMM Old Town Hall\, 7 Church Street\, Searsport \nSuzanna- Last Haul\, acrylic on canvas by Susan Tobey White.
URL:https://penobscotmarinemuseum.org/event-single/lobstering-women-of-maine-exhibition-reception/
LOCATION:PMM Old Town Hall\, 7 Church St.\, Seasrsport\, ME\, 04974\, United States
CATEGORIES:Opening Reception
ATTACH;FMTTYPE=image/jpeg:https://penobscotmarinemuseum.org/wp-content/uploads/2019/04/7-14.jpg
ORGANIZER;CN="Penobscot Marine Museum":MAILTO:jganskop@pmm-maine.org
END:VEVENT
BEGIN:VEVENT
DTSTART;TZID=America/New_York:20190524T170000
DTEND;TZID=America/New_York:20190524T190000
DTSTAMP:20260421T190552
CREATED:20190418T201953Z
LAST-MODIFIED:20190418T201953Z
UID:10000265-1558717200-1558724400@penobscotmarinemuseum.org
SUMMARY:Weather or Knot? and Where in the World? Exhibit Opening Reception
DESCRIPTION:Friday\, May 24\, 5pm-7pm\nFREE
URL:https://penobscotmarinemuseum.org/event-single/weather-or-knot-and-where-in-the-world-exhibit-opening-reception/
LOCATION:Penobscot Marine Museum\, 2 Church Street\, Searsport\, 04974\, United States
CATEGORIES:Opening Reception
ATTACH;FMTTYPE=image/jpeg:https://penobscotmarinemuseum.org/wp-content/uploads/2019/04/5-24.jpg
ORGANIZER;CN="Penobscot Marine Museum":MAILTO:jganskop@pmm-maine.org
END:VEVENT
BEGIN:VEVENT
DTSTART;TZID=America/New_York:20180525T170000
DTEND;TZID=America/New_York:20180525T190000
DTSTAMP:20260421T190552
CREATED:20180328T192039Z
LAST-MODIFIED:20180328T192134Z
UID:10000219-1527267600-1527274800@penobscotmarinemuseum.org
SUMMARY:Sailing Small: Small Boats\, Big Ideas Opening Reception
DESCRIPTION:May 25; 5pm-7pm\nSailing Small: Small Boats\, Big Ideas Opening Reception\nMain Street Gallery\nCost: Free\, donations welcome
URL:https://penobscotmarinemuseum.org/event-single/sailing-small-small-boats-big-ideas-opening-reception/
LOCATION:Main Street Gallery\, 40 East Main Street\, Searsport\, 04974\, United States
CATEGORIES:Opening Reception
ATTACH;FMTTYPE=image/jpeg:https://penobscotmarinemuseum.org/wp-content/uploads/2018/03/5-25.jpg
ORGANIZER;CN="Penobscot Marine Museum":MAILTO:jganskop@pmm-maine.org
END:VEVENT
BEGIN:VEVENT
DTSTART;TZID=America/New_York:20170525T170000
DTEND;TZID=America/New_York:20170525T190000
DTSTAMP:20260421T190552
CREATED:20170510T173158Z
LAST-MODIFIED:20170510T173158Z
UID:10000063-1495731600-1495738800@penobscotmarinemuseum.org
SUMMARY:Opening Reception - Gone Fishing! and The Net Result: Our Evolving Fisheries
DESCRIPTION:Photo by Kosti Ruohomaa \nOpening Reception\nGone Fishing! and The Net Result: Our Evolving Fisheries\nThursday\, May 25\, 5 pm to 7 pm\nMain Street Gallery\, 40 E. Main St.\nFree admission
URL:https://penobscotmarinemuseum.org/event-single/opening-reception-gone-fishing-and-the-net-result-our-evolving-fisheries/
LOCATION:Main Street Gallery\, 40 East Main Street\, Searsport\, 04974\, United States
CATEGORIES:Opening Reception
ATTACH;FMTTYPE=image/jpeg:https://penobscotmarinemuseum.org/wp-content/uploads/2017/05/5-25.jpg
ORGANIZER;CN="Penobscot Marine Museum":MAILTO:jganskop@pmm-maine.org
END:VEVENT
BEGIN:VEVENT
DTSTART;TZID=UTC:20160527T170000
DTEND;TZID=UTC:20160527T190000
DTSTAMP:20260421T190552
CREATED:20160406T150943Z
LAST-MODIFIED:20160505T000231Z
UID:10000140-1464368400-1464375600@penobscotmarinemuseum.org
SUMMARY:Wish You Were Here: Communicating Maine
DESCRIPTION:Friday\, May 27\, 5 pm to 7 pm\, Main Street Gallery and Museum Store\nAdmission free.
URL:https://penobscotmarinemuseum.org/event-single/wish-you-were-here-communicating-maine/
LOCATION:Main Street Gallery\, 40 East Main Street\, Searsport\, 04974\, United States
CATEGORIES:Opening Reception
ATTACH;FMTTYPE=image/jpeg:https://penobscotmarinemuseum.org/wp-content/uploads/2016/01/WYWHLogo3Web-1.jpg
ORGANIZER;CN="Penobscot Marine Museum":MAILTO:jganskop@pmm-maine.org
END:VEVENT
BEGIN:VEVENT
DTSTART;TZID=America/New_York:20150522T170000
DTEND;TZID=America/New_York:20150522T190000
DTSTAMP:20260421T190552
CREATED:20150520T200128Z
LAST-MODIFIED:20150520T200128Z
UID:10000121-1432314000-1432321200@penobscotmarinemuseum.org
SUMMARY:Opening Reception for 2015 Season
DESCRIPTION:On Friday\, May 22nd from 5:00 pm to 7:00 pm the public is invited to the opening reception for the 2015 season\, which will be held in the newly renovated Visitors Center on the Crescent\, 2 Church Street\, Searsport. \nRead more about this year’s exhibits.
URL:https://penobscotmarinemuseum.org/event-single/opening-reception-for-2015-season/
LOCATION:PMM Visitors Center\, 2 Church St.\, Searsport\, ME\, 04974\, United States
CATEGORIES:Opening Reception
ATTACH;FMTTYPE=image/jpeg:https://penobscotmarinemuseum.org/wp-content/uploads/2015/05/Visitor-Center.jpg
ORGANIZER;CN="Penobscot Marine Museum":MAILTO:jganskop@pmm-maine.org
END:VEVENT
END:VCALENDAR