BEGIN:VCALENDAR
VERSION:2.0
PRODID:-//Penobscot Marine Museum - ECPv6.15.20//NONSGML v1.0//EN
CALSCALE:GREGORIAN
METHOD:PUBLISH
X-ORIGINAL-URL:https://penobscotmarinemuseum.org
X-WR-CALDESC:Events for Penobscot Marine Museum
REFRESH-INTERVAL;VALUE=DURATION:PT1H
X-Robots-Tag:noindex
X-PUBLISHED-TTL:PT1H
BEGIN:VTIMEZONE
TZID:UTC
BEGIN:STANDARD
TZOFFSETFROM:+0000
TZOFFSETTO:+0000
TZNAME:UTC
DTSTART:20150101T000000
END:STANDARD
END:VTIMEZONE
BEGIN:VEVENT
DTSTART;TZID=UTC:20160806T130000
DTEND;TZID=UTC:20160806T160000
DTSTAMP:20260421T172450
CREATED:20160406T174308Z
LAST-MODIFIED:20160406T174308Z
UID:10000042-1470488400-1470499200@penobscotmarinemuseum.org
SUMMARY:Sea Captains’ House Tour
DESCRIPTION:Saturday\, Aug 6\, 1 pm to 4 pm\, Fowler-True-Ross Sea Captain’s House & throughout Searsport\nTickets $10\, $5 for members. \nSearsport is famous for shipbuilding and ship captains.  In collaboration with PMM\, the owners of the historic houses built by the Captains and shipbuilders between 1860 and 1900 are opening their homes to the public for this very special Historic House Tour.  Hear stories about the houses and the captains from the owners themselves.   A Searsport Heritage Day event. \nFor more information and to buy tickets\, call Museum Store at 548-0334.
URL:https://penobscotmarinemuseum.org/event-single/sea-captains-house-tour/
LOCATION:Penobscot Marine Museum\, 2 Church Street\, Searsport\, 04974\, United States
CATEGORIES:Tour
ATTACH;FMTTYPE=image/jpeg:https://penobscotmarinemuseum.org/wp-content/uploads/2016/04/Sea-Captain-House.jpg
ORGANIZER;CN="Penobscot Marine Museum":MAILTO:jganskop@pmm-maine.org
END:VEVENT
END:VCALENDAR