BEGIN:VCALENDAR
VERSION:2.0
PRODID:-//Penobscot Marine Museum - ECPv6.15.20//NONSGML v1.0//EN
CALSCALE:GREGORIAN
METHOD:PUBLISH
X-WR-CALNAME:Penobscot Marine Museum
X-ORIGINAL-URL:https://penobscotmarinemuseum.org
X-WR-CALDESC:Events for Penobscot Marine Museum
REFRESH-INTERVAL;VALUE=DURATION:PT1H
X-Robots-Tag:noindex
X-PUBLISHED-TTL:PT1H
BEGIN:VTIMEZONE
TZID:UTC
BEGIN:STANDARD
TZOFFSETFROM:+0000
TZOFFSETTO:+0000
TZNAME:UTC
DTSTART:20150101T000000
END:STANDARD
END:VTIMEZONE
BEGIN:VEVENT
DTSTART;TZID=UTC:20160212T173000
DTEND;TZID=UTC:20160212T190000
DTSTAMP:20260421T144519
CREATED:20160211T025800Z
LAST-MODIFIED:20160211T025800Z
UID:10000134-1455298200-1455303600@penobscotmarinemuseum.org
SUMMARY:Opening Reception and Gallery Talk
DESCRIPTION:Penobscot Marine Museum Exhibit on View at Northeast Harbor Library\nOpening reception and gallery talk by PMM photo archivist Kevin Johnson on Friday\, February 12\, 5:30 pm to 7:00 pm.  \nPenobscot Marine Museum’s travelling exhibit of historic photographs\, Hancock County Through Eastern’s Eye\, is at the Northeast Harbor Library\, Sedgwick Town Meeting House\, 574 North Sedgwick Rd.\, Sedgwick\, for the month of February.
URL:https://penobscotmarinemuseum.org/event-single/opening-reception-and-gallery-talk/
LOCATION:ME\, United States
CATEGORIES:Traveling Exhibits
ATTACH;FMTTYPE=image/jpeg:https://penobscotmarinemuseum.org/wp-content/uploads/2013/01/115088.jpg
ORGANIZER;CN="Penobscot Marine Museum":MAILTO:jganskop@pmm-maine.org
END:VEVENT
END:VCALENDAR