BEGIN:VCALENDAR
VERSION:2.0
PRODID:-//Penobscot Marine Museum - ECPv6.15.20//NONSGML v1.0//EN
CALSCALE:GREGORIAN
METHOD:PUBLISH
X-WR-CALNAME:Penobscot Marine Museum
X-ORIGINAL-URL:https://penobscotmarinemuseum.org
X-WR-CALDESC:Events for Penobscot Marine Museum
REFRESH-INTERVAL;VALUE=DURATION:PT1H
X-Robots-Tag:noindex
X-PUBLISHED-TTL:PT1H
BEGIN:VTIMEZONE
TZID:America/New_York
BEGIN:DAYLIGHT
TZOFFSETFROM:-0500
TZOFFSETTO:-0400
TZNAME:EDT
DTSTART:20250309T070000
END:DAYLIGHT
BEGIN:STANDARD
TZOFFSETFROM:-0400
TZOFFSETTO:-0500
TZNAME:EST
DTSTART:20251102T060000
END:STANDARD
BEGIN:DAYLIGHT
TZOFFSETFROM:-0500
TZOFFSETTO:-0400
TZNAME:EDT
DTSTART:20260308T070000
END:DAYLIGHT
BEGIN:STANDARD
TZOFFSETFROM:-0400
TZOFFSETTO:-0500
TZNAME:EST
DTSTART:20261101T060000
END:STANDARD
BEGIN:DAYLIGHT
TZOFFSETFROM:-0500
TZOFFSETTO:-0400
TZNAME:EDT
DTSTART:20270314T070000
END:DAYLIGHT
BEGIN:STANDARD
TZOFFSETFROM:-0400
TZOFFSETTO:-0500
TZNAME:EST
DTSTART:20271107T060000
END:STANDARD
END:VTIMEZONE
BEGIN:VEVENT
DTSTART;TZID=America/New_York:20260917T103000
DTEND;TZID=America/New_York:20260917T123000
DTSTAMP:20260424T234319
CREATED:20260325T201658Z
LAST-MODIFIED:20260325T201705Z
UID:10000770-1789641000-1789648200@penobscotmarinemuseum.org
SUMMARY:Homeschool Days—Hello! Communication in the 1800s
DESCRIPTION:Homeschool families are invited to the Penobscot Marine Museum for a hands-on educational visit designed for all ages. Participants can learn about Searsport sea captains and their families\, enjoy crafts\, and join a Set Sail demonstration. After the structured program ends at 12:30pm\, families are welcome to explore independently. \n$5/person\, $20/family \nRegistration required. \n			\n				Register
URL:https://penobscotmarinemuseum.org/event-single/homeschool-days-hello-communication-in-the-1800s-2/
LOCATION:Penobscot Marine Museum\, 2 Church Street\, Searsport\, 04974\, United States
ATTACH;FMTTYPE=image/jpeg:https://penobscotmarinemuseum.org/wp-content/uploads/2026/03/Homeschool-Dayssm.jpg
END:VEVENT
BEGIN:VEVENT
DTSTART;TZID=America/New_York:20260918T103000
DTEND;TZID=America/New_York:20260918T123000
DTSTAMP:20260424T234319
CREATED:20260325T201911Z
LAST-MODIFIED:20260325T201918Z
UID:10000771-1789727400-1789734600@penobscotmarinemuseum.org
SUMMARY:Homeschool Days—Down by the Bay & Off to Sea
DESCRIPTION:Homeschool families are invited to the Penobscot Marine Museum for a hands-on educational visit designed for all ages. Participants can learn about Searsport sea captains and their families\, enjoy crafts\, and join a Set Sail demonstration. After the structured program ends at 12:30pm\, families are welcome to explore independently. \n$5/person\, $20/family \nRegistration required  \n			\n				Register
URL:https://penobscotmarinemuseum.org/event-single/homeschool-days-down-by-the-bay-off-to-sea-2/
LOCATION:Penobscot Marine Museum\, 2 Church Street\, Searsport\, 04974\, United States
ATTACH;FMTTYPE=image/jpeg:https://penobscotmarinemuseum.org/wp-content/uploads/2026/03/Homeschool-Dayssm.jpg
END:VEVENT
BEGIN:VEVENT
DTSTART;TZID=America/New_York:20261003T100000
DTEND;TZID=America/New_York:20261003T160000
DTSTAMP:20260424T234319
CREATED:20251201T183636Z
LAST-MODIFIED:20260420T194308Z
UID:10000741-1791021600-1791043200@penobscotmarinemuseum.org
SUMMARY:SardineFest 2026
DESCRIPTION:Come celebrate all things sardines!\n						October 3\, 2026 | 10am to 4pm | Free Admission\n						\n						\n					\n				\n					\n				\n				\n				\n			\n				\n				\n			\n				\n				\n				\n				\n				\n				\n				\n				\n				\n				\n				\n				\n				\n				\n				\n				\n				\n				Celebrate everything sardines at SardineFest! Our first-ever event in 2025 welcomed about 1\,200 guests\, and we’re expecting an even bigger crowd in 2026. \nSardineFest will feature:\n\nFamily activities\nDemonstrations\nLive music\nLectures\nSalty Tales\nExhibitors\nVendors\nSardine tastings\n\nMore information to come! \n  \n			\n			\n				\n				\n				\n				\n				\n				\n				\n				\n				\n				Exhibit at SardineFest!Showcase your products\, services\, or mission at SardineFest—a celebration of Maine’s coastal culture. We’re especially looking for food vendors and organizations tied to Maine’s maritime industry to help highlight our rich working waterfront. Spots are limited—apply now to be part of the fun! \n				Apply Online\n			\n				\n				\n				\n				\n				Volunteer at SardineFest!Volunteers help create a welcoming and vibrant atmosphere\, assisting with event setup\, guiding visitors\, and supporting various festival activities. It’s an opportunity to connect with the community\, learn about local history\, and be part of a lively celebration of music\, food\, and the region’s storied sardine industry. Plus\, it’s a fun and rewarding way to make a positive impact while enjoying the festival firsthand. \n				Sign Up\n			\n			\n				\n				\n				\n				\n			\n				\n				\n			\n				\n				\n				\n				\n				\n				\n				\n				\n				\n				\n				\n				\n					\n					\n						\n						Be Part of SardineFest\n						Join our event as a sponsor!\n						Sponsoring SardineFest is a great way to help the Penobscot Marine Museum share Maine’s sardine history in a fun\, accessible way. Your support brings demonstrations\, music\, and tastings to life—and it also puts your organization in front of visitors who value local heritage. We’d love to have you join us as a sponsor. \n						Learn More\n					\n				\n					\n				\n				\n				\n			\n				\n				\n			\n				\n				\n				\n				\n				\n				\n				\n				\n				\n				\n				\n				\n				\n				\n				\n				\n				\n			\n				\n				\n				\n				\n				From the late 1800s through the early 2000s\, Maine’s sardine industry played a major role in shaping coastal communities. The Penobscot Marine Museum’s Sardineland exhibit explores this rich history and its lasting impact on the people who lived it. SardineFest brings that story to life with fun activities\, food\, and entertainment for all ages as we honor a vital piece of Maine’s maritime past. \n			\n			\n				\n				\n				\n				\n				\n				\n				\n				\n				\n				\n				\n				\n				\n				\n				\n				Calling All Crafters!Penobscot Marine Museum is seeking artists and crafters to showcase their creativity in the Sardine Crafts Exhibition Hall during the 2026 SardineFest. Submit your sardine-inspired work and be part of a fun\, imaginative display celebrating this iconic piece of Maine’s coastal culture. Whether your style is traditional or unexpected\, we’d love to see your take on the sardine. \n				Register\n			\n			\n				\n				\n				\n				\n			\n				\n				\n				\n				\n				\n				\n				\n				\n				\n				\n				Sponsored by: \n			\n				\n				\n				\n				\n				\n			\n			\n				\n				\n				\n				\n				\n				\n				\n				\n				\n				Presented by: \n			\n				\n				\n				\n				\n				\n			\n			\n				\n				\n				\n				\n			\n			\n				\n				\n			\n				\n				\n				\n				\n				\n				\n				\n				\n				\n				\n				\n				\n				\n				\n				\n				\n				\n				A Look Back at SardineFest 2025!
URL:https://penobscotmarinemuseum.org/event-single/sardinefest-2026/
LOCATION:Penobscot Marine Museum\, 2 Church Street\, Searsport\, 04974\, United States
ATTACH;FMTTYPE=image/png:https://penobscotmarinemuseum.org/wp-content/uploads/2025/11/sardinefest2026.png
END:VEVENT
BEGIN:VEVENT
DTSTART;TZID=America/New_York:20261008T103000
DTEND;TZID=America/New_York:20261008T123000
DTSTAMP:20260424T234319
CREATED:20260325T202031Z
LAST-MODIFIED:20260325T202038Z
UID:10000772-1791455400-1791462600@penobscotmarinemuseum.org
SUMMARY:Homeschool Days—Boats\, Boats\, Boats
DESCRIPTION:Homeschool families are invited to the Penobscot Marine Museum for a hands-on educational visit designed for all ages. Participants can learn about Searsport sea captains and their families\, enjoy crafts\, and join a Set Sail demonstration. After the structured program ends at 12:30pm\, families are welcome to explore independently. \n$5/person\, $20/family \nRegistration required  \n			\n				Register
URL:https://penobscotmarinemuseum.org/event-single/homeschool-days-boats-boats-boats-2/
LOCATION:Penobscot Marine Museum\, 2 Church Street\, Searsport\, 04974\, United States
ATTACH;FMTTYPE=image/jpeg:https://penobscotmarinemuseum.org/wp-content/uploads/2026/03/Homeschool-Dayssm.jpg
END:VEVENT
BEGIN:VEVENT
DTSTART;TZID=America/New_York:20261008T160000
DTEND;TZID=America/New_York:20261008T170000
DTSTAMP:20260424T234319
CREATED:20260323T201636Z
LAST-MODIFIED:20260323T202805Z
UID:10000767-1791475200-1791478800@penobscotmarinemuseum.org
SUMMARY:Monthly Sea Chantey Singalongs
DESCRIPTION:Sing along or listen as PMM staff and volunteers lead an afternoon of sea chanteys and sailors’ songs. If you have a chantey to share\, you are welcome to lead one. We will also talk about how these songs were used as work songs. Attend once or come regularly. All ages are welcome\, and no experience is needed. \nFree.
URL:https://penobscotmarinemuseum.org/event-single/monthly-sea-chantey-singalongs-3/2026-10-08/
LOCATION:Penobscot Marine Museum\, 2 Church Street\, Searsport\, 04974\, United States
ATTACH;FMTTYPE=image/jpeg:https://penobscotmarinemuseum.org/wp-content/uploads/2025/03/6-12-7-10-8-14-9-11-10-9-Sea-Chantey-Singalong.jpg
END:VEVENT
BEGIN:VEVENT
DTSTART;TZID=America/New_York:20261010T100000
DTEND;TZID=America/New_York:20261010T170000
DTSTAMP:20260424T234319
CREATED:20250821T165647Z
LAST-MODIFIED:20260325T202156Z
UID:10000731-1791626400-1791651600@penobscotmarinemuseum.org
SUMMARY:Last Day of the Season
DESCRIPTION:Visit Penobscot Marine Museum for the last chance to explore the full campus in 2026. Enjoy access to all exhibits and historic buildings before we close for the season. Admission is reduced to $10 for the day. \nWhile the campus will be closed after today\, our digital museum\, research library\, photo archives\, education department\, and administrative offices remain open year-round. \n$10 at the door
URL:https://penobscotmarinemuseum.org/event-single/last-day-of-the-season/
LOCATION:Penobscot Marine Museum\, 2 Church Street\, Searsport\, 04974\, United States
ATTACH;FMTTYPE=image/jpeg:https://penobscotmarinemuseum.org/wp-content/uploads/2024/06/Set-Sail-fieldtrip-landscape.jpg
END:VEVENT
BEGIN:VEVENT
DTSTART;TZID=America/New_York:20261024T150000
DTEND;TZID=America/New_York:20261024T180000
DTSTAMP:20260424T234319
CREATED:20250325T184905Z
LAST-MODIFIED:20260325T202448Z
UID:10000701-1792854000-1792864800@penobscotmarinemuseum.org
SUMMARY:Twilight Tours
DESCRIPTION:Meet the spirits of those lost at sea—a shipwreck\, a waterspout\, Confederates\, yellow fever\, and a menagerie at the bottom of the ocean are just a few of the plots visitors may encounter on Twilight Tours.  \nThis indoor evening event takes place throughout the historic Merithew House\, where volunteer actors stationed upstairs and downstairs portray ghosts from the past. Visitors move through the building to hear each story. Pre-registration is encouraged\, walk-ins are welcome. Tours begin at 4pm and depart every 10 minutes. An accessible\, seated version of the program will also be offered for those who prefer to remain in one place. In this format\, the ghosts rotate through the room to share their stories. This wheelchair-accessible presentation begins at 3pm. \nInterested in volunteering? Email Jeana at jganskop@pmm-maine.org. \n$10 at the door\, $8 pre-register \n			\n				Register
URL:https://penobscotmarinemuseum.org/event-single/twilight-tours-4/
LOCATION:Penobscot Marine Museum\, 2 Church Street\, Searsport\, 04974\, United States
ATTACH;FMTTYPE=image/jpeg:https://penobscotmarinemuseum.org/wp-content/uploads/2024/04/10-12-Twilight-Tours.jpg
END:VEVENT
BEGIN:VEVENT
DTSTART;TZID=America/New_York:20261114T100000
DTEND;TZID=America/New_York:20261114T130000
DTSTAMP:20260424T234319
CREATED:20250821T171309Z
LAST-MODIFIED:20260325T203128Z
UID:10000733-1794650400-1794661200@penobscotmarinemuseum.org
SUMMARY:Sailors’ Knot Ornament Workshop
DESCRIPTION:This workshop is led by Penobscot Marine Museum Education Director Jeana Ganskop. \nLearn how to type a flat Turk’s head knot out of lobstering string to create a sailors’ knot ornament. Staggered start times allow for individual instruction and support. In addition to a finished ornament\, attendees will take home materials to complete more knotwork projects. Attendees may also enjoy the Sailors’ Knot Wreath workshop on December 6. \n$35/participant \nRegistration required  \n			\n				Register
URL:https://penobscotmarinemuseum.org/event-single/sailors-knot-ornament-workshop/
LOCATION:Penobscot Marine Museum\, 2 Church Street\, Searsport\, 04974\, United States
ATTACH;FMTTYPE=image/jpeg:https://penobscotmarinemuseum.org/wp-content/uploads/2025/08/Knot-Workshop.jpg
END:VEVENT
BEGIN:VEVENT
DTSTART;TZID=America/New_York:20261114T133000
DTEND;TZID=America/New_York:20261114T153000
DTSTAMP:20260424T234319
CREATED:20250918T170900Z
LAST-MODIFIED:20260325T203514Z
UID:10000734-1794663000-1794670200@penobscotmarinemuseum.org
SUMMARY:Shell Art Photo Frame Workshop
DESCRIPTION:Use your creativity (and dreams of summer) to decorate a wooden picture frame with seashells. This craft is a perfect DIY holiday gift! All ages welcome. Participants under 14 must be accompanied by an adult. \n$25.00/participant \nRegistration required  \n			\n				Register
URL:https://penobscotmarinemuseum.org/event-single/shell-art-photo-frame-workshop/
LOCATION:Penobscot Marine Museum\, 2 Church Street\, Searsport\, 04974\, United States
ATTACH;FMTTYPE=image/jpeg:https://penobscotmarinemuseum.org/wp-content/uploads/2025/09/Shell-Frame-11-14.jpg
END:VEVENT
END:VCALENDAR