BEGIN:VCALENDAR
VERSION:2.0
PRODID:-//Penobscot Marine Museum - ECPv6.15.20//NONSGML v1.0//EN
CALSCALE:GREGORIAN
METHOD:PUBLISH
X-WR-CALNAME:Penobscot Marine Museum
X-ORIGINAL-URL:https://penobscotmarinemuseum.org
X-WR-CALDESC:Events for Penobscot Marine Museum
REFRESH-INTERVAL;VALUE=DURATION:PT1H
X-Robots-Tag:noindex
X-PUBLISHED-TTL:PT1H
BEGIN:VTIMEZONE
TZID:America/New_York
BEGIN:DAYLIGHT
TZOFFSETFROM:-0500
TZOFFSETTO:-0400
TZNAME:EDT
DTSTART:20250309T070000
END:DAYLIGHT
BEGIN:STANDARD
TZOFFSETFROM:-0400
TZOFFSETTO:-0500
TZNAME:EST
DTSTART:20251102T060000
END:STANDARD
BEGIN:DAYLIGHT
TZOFFSETFROM:-0500
TZOFFSETTO:-0400
TZNAME:EDT
DTSTART:20260308T070000
END:DAYLIGHT
BEGIN:STANDARD
TZOFFSETFROM:-0400
TZOFFSETTO:-0500
TZNAME:EST
DTSTART:20261101T060000
END:STANDARD
BEGIN:DAYLIGHT
TZOFFSETFROM:-0500
TZOFFSETTO:-0400
TZNAME:EDT
DTSTART:20270314T070000
END:DAYLIGHT
BEGIN:STANDARD
TZOFFSETFROM:-0400
TZOFFSETTO:-0500
TZNAME:EST
DTSTART:20271107T060000
END:STANDARD
END:VTIMEZONE
BEGIN:VEVENT
DTSTART;TZID=America/New_York:20260611T160000
DTEND;TZID=America/New_York:20260611T170000
DTSTAMP:20260420T130806
CREATED:20260323T201636Z
LAST-MODIFIED:20260323T202805Z
UID:10000763-1781193600-1781197200@penobscotmarinemuseum.org
SUMMARY:Monthly Sea Chantey Singalongs
DESCRIPTION:Sing along or listen as PMM staff and volunteers lead an afternoon of sea chanteys and sailors’ songs. If you have a chantey to share\, you are welcome to lead one. We will also talk about how these songs were used as work songs. Attend once or come regularly. All ages are welcome\, and no experience is needed. \nFree.
URL:https://penobscotmarinemuseum.org/event-single/monthly-sea-chantey-singalongs-3/2026-06-11/
LOCATION:Penobscot Marine Museum\, 2 Church Street\, Searsport\, 04974\, United States
ATTACH;FMTTYPE=image/jpeg:https://penobscotmarinemuseum.org/wp-content/uploads/2025/03/6-12-7-10-8-14-9-11-10-9-Sea-Chantey-Singalong.jpg
END:VEVENT
BEGIN:VEVENT
DTSTART;TZID=America/New_York:20260709T160000
DTEND;TZID=America/New_York:20260709T170000
DTSTAMP:20260420T130806
CREATED:20260323T201636Z
LAST-MODIFIED:20260323T202805Z
UID:10000764-1783612800-1783616400@penobscotmarinemuseum.org
SUMMARY:Monthly Sea Chantey Singalongs
DESCRIPTION:Sing along or listen as PMM staff and volunteers lead an afternoon of sea chanteys and sailors’ songs. If you have a chantey to share\, you are welcome to lead one. We will also talk about how these songs were used as work songs. Attend once or come regularly. All ages are welcome\, and no experience is needed. \nFree.
URL:https://penobscotmarinemuseum.org/event-single/monthly-sea-chantey-singalongs-3/2026-07-09/
LOCATION:Penobscot Marine Museum\, 2 Church Street\, Searsport\, 04974\, United States
ATTACH;FMTTYPE=image/jpeg:https://penobscotmarinemuseum.org/wp-content/uploads/2025/03/6-12-7-10-8-14-9-11-10-9-Sea-Chantey-Singalong.jpg
END:VEVENT
BEGIN:VEVENT
DTSTART;TZID=America/New_York:20260813T160000
DTEND;TZID=America/New_York:20260813T170000
DTSTAMP:20260420T130806
CREATED:20260323T202234Z
LAST-MODIFIED:20260323T202556Z
UID:10000765-1786636800-1786640400@penobscotmarinemuseum.org
SUMMARY:Monthly Sea Chantey Singalongs—Guest Chanteyman
DESCRIPTION:PMM is excited to welcome guest chanteyman Stephen Sanfilippo for our August and September Chantey Singalongs. He’ll lead sea songs and chanteys on the concertina\, many with catchy choruses for everyone to join in. Drop in for a few songs or stay for the whole evening—sing along or just listen. Stephen will also share stories and background on how chanteys were used as work songs at sea. All ages are welcome\, and no experience is needed. \nStephen Sanfilippo has been researching and performing historic songs of the maritime trades since the early 1970s. A U.S. Navy veteran\, he earned his Ph.D. in History\, and taught Maritime History through Songs of the Sea at Maine Maritime Academy for many years. He has been leading the monthly Chantey Sing in Pembroke\, Maine\, for 18 years\, and has performed concerts and presented lectures from Virginia to Maritime Canada. Stephen has performed many times at the Penobscot Marine Museum\, beginning in 1984 when he provided music for the opening of the original “Lobstering & the Maine Coast” exhibit.  \nPhoto: “A ‘recent’ photo. I still have all the hair\, only now it’s white.” —Stephen Sanfilippo
URL:https://penobscotmarinemuseum.org/event-single/monthly-sea-chantey-singalongs-3-2/
LOCATION:Main Street Gallery\, 40 East Main Street\, Searsport\, 04974\, United States
ATTACH;FMTTYPE=image/jpeg:https://penobscotmarinemuseum.org/wp-content/uploads/2026/03/Guest-Chanteyman-8-13-9-10.jpg
END:VEVENT
BEGIN:VEVENT
DTSTART;TZID=America/New_York:20260910T160000
DTEND;TZID=America/New_York:20260910T170000
DTSTAMP:20260420T130806
CREATED:20260323T203751Z
LAST-MODIFIED:20260323T203757Z
UID:10000768-1789056000-1789059600@penobscotmarinemuseum.org
SUMMARY:Monthly Sea Chantey Singalongs—Guest Chanteyman
DESCRIPTION:PMM is excited to welcome guest chanteyman Stephen Sanfilippo for our August and September Chantey Singalongs. He’ll lead sea songs and chanteys on the concertina\, many with catchy choruses for everyone to join in. Drop in for a few songs or stay for the whole evening—sing along or just listen. Stephen will also share stories and background on how chanteys were used as work songs at sea. All ages are welcome\, and no experience is needed. \nStephen Sanfilippo has been researching and performing historic songs of the maritime trades since the early 1970s. A U.S. Navy veteran\, he earned his Ph.D. in History\, and taught Maritime History through Songs of the Sea at Maine Maritime Academy for many years. He has been leading the monthly Chantey Sing in Pembroke\, Maine\, for 18 years\, and has performed concerts and presented lectures from Virginia to Maritime Canada. Stephen has performed many times at the Penobscot Marine Museum\, beginning in 1984 when he provided music for the opening of the original “Lobstering & the Maine Coast” exhibit. \nPhoto: “A ‘recent’ photo. I still have all the hair\, only now it’s white.” —Stephen Sanfilippo
URL:https://penobscotmarinemuseum.org/event-single/monthly-sea-chantey-singalongs-guest-chanteyman/
LOCATION:Main Street Gallery\, 40 East Main Street\, Searsport\, 04974\, United States
ATTACH;FMTTYPE=image/jpeg:https://penobscotmarinemuseum.org/wp-content/uploads/2026/03/Guest-Chanteyman-8-13-9-10.jpg
END:VEVENT
BEGIN:VEVENT
DTSTART;TZID=America/New_York:20261008T160000
DTEND;TZID=America/New_York:20261008T170000
DTSTAMP:20260420T130806
CREATED:20260323T201636Z
LAST-MODIFIED:20260323T202805Z
UID:10000767-1791475200-1791478800@penobscotmarinemuseum.org
SUMMARY:Monthly Sea Chantey Singalongs
DESCRIPTION:Sing along or listen as PMM staff and volunteers lead an afternoon of sea chanteys and sailors’ songs. If you have a chantey to share\, you are welcome to lead one. We will also talk about how these songs were used as work songs. Attend once or come regularly. All ages are welcome\, and no experience is needed. \nFree.
URL:https://penobscotmarinemuseum.org/event-single/monthly-sea-chantey-singalongs-3/2026-10-08/
LOCATION:Penobscot Marine Museum\, 2 Church Street\, Searsport\, 04974\, United States
ATTACH;FMTTYPE=image/jpeg:https://penobscotmarinemuseum.org/wp-content/uploads/2025/03/6-12-7-10-8-14-9-11-10-9-Sea-Chantey-Singalong.jpg
END:VEVENT
END:VCALENDAR