BEGIN:VCALENDAR
VERSION:2.0
PRODID:-//Penobscot Marine Museum - ECPv6.15.20//NONSGML v1.0//EN
CALSCALE:GREGORIAN
METHOD:PUBLISH
X-WR-CALNAME:Penobscot Marine Museum
X-ORIGINAL-URL:https://penobscotmarinemuseum.org
X-WR-CALDESC:Events for Penobscot Marine Museum
REFRESH-INTERVAL;VALUE=DURATION:PT1H
X-Robots-Tag:noindex
X-PUBLISHED-TTL:PT1H
BEGIN:VTIMEZONE
TZID:America/New_York
BEGIN:DAYLIGHT
TZOFFSETFROM:-0500
TZOFFSETTO:-0400
TZNAME:EDT
DTSTART:20180311T070000
END:DAYLIGHT
BEGIN:STANDARD
TZOFFSETFROM:-0400
TZOFFSETTO:-0500
TZNAME:EST
DTSTART:20181104T060000
END:STANDARD
BEGIN:DAYLIGHT
TZOFFSETFROM:-0500
TZOFFSETTO:-0400
TZNAME:EDT
DTSTART:20190310T070000
END:DAYLIGHT
BEGIN:STANDARD
TZOFFSETFROM:-0400
TZOFFSETTO:-0500
TZNAME:EST
DTSTART:20191103T060000
END:STANDARD
BEGIN:DAYLIGHT
TZOFFSETFROM:-0500
TZOFFSETTO:-0400
TZNAME:EDT
DTSTART:20200308T070000
END:DAYLIGHT
BEGIN:STANDARD
TZOFFSETFROM:-0400
TZOFFSETTO:-0500
TZNAME:EST
DTSTART:20201101T060000
END:STANDARD
END:VTIMEZONE
BEGIN:VEVENT
DTSTART;TZID=America/New_York:20190316T130000
DTEND;TZID=America/New_York:20190316T143000
DTSTAMP:20260422T012309
CREATED:20181219T174542Z
LAST-MODIFIED:20181219T180027Z
UID:10000110-1552741200-1552746600@penobscotmarinemuseum.org
SUMMARY:Off Campus Event: Readfield\, The Postcard View: Selections from Eastern Illustrating & Publishing Company
DESCRIPTION:Sat.\, March 16\, 2019 at 1:00pm\nAsa Gile Hall\, 8 Old Kents Hill Rd.\, Readfield \nJohnson’s program will include the story of “Eastern Illustrating & Publishing Co.” and a slideshow of historical views of Readfield and its neighboring towns of Winthrop\, Wayne\, Fayette\, Mt. Vernon\, Vienna\, Belgrade and Manchester.\nFor more information Contact (207)377-2299 or readfieldhistorical@gmail.com.
URL:https://penobscotmarinemuseum.org/event-single/off-campus-event-readfield-the-postcard-view-selections-from-eastern-illustrating-publishing-company/
LOCATION:Asa Gile Hall\, 8 Old Kents Hill Rd\, Readefield\, 04355\, United States
CATEGORIES:Presentation
ATTACH;FMTTYPE=image/jpeg:https://penobscotmarinemuseum.org/wp-content/uploads/2018/12/LB2007.1.102162.jpg
ORGANIZER;CN="Penobscot Marine Museum":MAILTO:jganskop@pmm-maine.org
END:VEVENT
END:VCALENDAR