BEGIN:VCALENDAR
VERSION:2.0
PRODID:-//Penobscot Marine Museum - ECPv6.15.20//NONSGML v1.0//EN
CALSCALE:GREGORIAN
METHOD:PUBLISH
X-WR-CALNAME:Penobscot Marine Museum
X-ORIGINAL-URL:https://penobscotmarinemuseum.org
X-WR-CALDESC:Events for Penobscot Marine Museum
REFRESH-INTERVAL;VALUE=DURATION:PT1H
X-Robots-Tag:noindex
X-PUBLISHED-TTL:PT1H
BEGIN:VTIMEZONE
TZID:America/New_York
BEGIN:DAYLIGHT
TZOFFSETFROM:-0500
TZOFFSETTO:-0400
TZNAME:EDT
DTSTART:20220313T070000
END:DAYLIGHT
BEGIN:STANDARD
TZOFFSETFROM:-0400
TZOFFSETTO:-0500
TZNAME:EST
DTSTART:20221106T060000
END:STANDARD
BEGIN:DAYLIGHT
TZOFFSETFROM:-0500
TZOFFSETTO:-0400
TZNAME:EDT
DTSTART:20230312T070000
END:DAYLIGHT
BEGIN:STANDARD
TZOFFSETFROM:-0400
TZOFFSETTO:-0500
TZNAME:EST
DTSTART:20231105T060000
END:STANDARD
BEGIN:DAYLIGHT
TZOFFSETFROM:-0500
TZOFFSETTO:-0400
TZNAME:EDT
DTSTART:20240310T070000
END:DAYLIGHT
BEGIN:STANDARD
TZOFFSETFROM:-0400
TZOFFSETTO:-0500
TZNAME:EST
DTSTART:20241103T060000
END:STANDARD
END:VTIMEZONE
BEGIN:VEVENT
DTSTART;TZID=America/New_York:20230927T150000
DTEND;TZID=America/New_York:20230927T163000
DTSTAMP:20260421T143432
CREATED:20230830T200853Z
LAST-MODIFIED:20230830T200927Z
UID:10000433-1695826800-1695832200@penobscotmarinemuseum.org
SUMMARY:Sailors' Knots & Friendship Bracelets — Teen Club
DESCRIPTION:New at Penobscot Marine Museum! Get crafty with your fellow teens during weekly Wednesday sessions between September 20th and October 11th. We’ll have a variety of materials and instructions for sailors’ knots\, friendship bracelets\, and more! Come to learn new techniques or to share your skills. All supplies and light snacks are provided. Meet at the Museum Store at 40 East Main St.\, Searsport. \nThis event is for ages 12-18\nCost: $5/teen\, FREE for Members and Searsport & Stockton Springs residents
URL:https://penobscotmarinemuseum.org/event-single/364127/
LOCATION:PMM Boat House\, 2 Church Street\, Searsport\, ME\, 04974\, United States
ATTACH;FMTTYPE=image/png:https://penobscotmarinemuseum.org/wp-content/uploads/2023/08/sailors-knots-and-friendship-bracelets.png
END:VEVENT
END:VCALENDAR