BEGIN:VCALENDAR
VERSION:2.0
PRODID:-//Penobscot Marine Museum - ECPv6.15.20//NONSGML v1.0//EN
CALSCALE:GREGORIAN
METHOD:PUBLISH
X-WR-CALNAME:Penobscot Marine Museum
X-ORIGINAL-URL:https://penobscotmarinemuseum.org
X-WR-CALDESC:Events for Penobscot Marine Museum
REFRESH-INTERVAL;VALUE=DURATION:PT1H
X-Robots-Tag:noindex
X-PUBLISHED-TTL:PT1H
BEGIN:VTIMEZONE
TZID:America/New_York
BEGIN:DAYLIGHT
TZOFFSETFROM:-0500
TZOFFSETTO:-0400
TZNAME:EDT
DTSTART:20170312T070000
END:DAYLIGHT
BEGIN:STANDARD
TZOFFSETFROM:-0400
TZOFFSETTO:-0500
TZNAME:EST
DTSTART:20171105T060000
END:STANDARD
BEGIN:DAYLIGHT
TZOFFSETFROM:-0500
TZOFFSETTO:-0400
TZNAME:EDT
DTSTART:20180311T070000
END:DAYLIGHT
BEGIN:STANDARD
TZOFFSETFROM:-0400
TZOFFSETTO:-0500
TZNAME:EST
DTSTART:20181104T060000
END:STANDARD
BEGIN:DAYLIGHT
TZOFFSETFROM:-0500
TZOFFSETTO:-0400
TZNAME:EDT
DTSTART:20190310T070000
END:DAYLIGHT
BEGIN:STANDARD
TZOFFSETFROM:-0400
TZOFFSETTO:-0500
TZNAME:EST
DTSTART:20191103T060000
END:STANDARD
END:VTIMEZONE
BEGIN:VEVENT
DTSTART;TZID=America/New_York:20180804T110000
DTEND;TZID=America/New_York:20180804T140000
DTSTAMP:20260421T215635
CREATED:20180329T134947Z
LAST-MODIFIED:20180329T134947Z
UID:10000224-1533380400-1533391200@penobscotmarinemuseum.org
SUMMARY:Searsport Heritage Days Homecoming Model Display
DESCRIPTION:August 4; 11am-2pm\nSearsport Heritage Days Homecoming Model Display\nModel Pond\nCost: Free with Museum Admission \nSearsport celebrates its maritime history this weekend\, join us to see models built and used by our maritime forefathers and foremothers.  Call ahead to reserve your spot.
URL:https://penobscotmarinemuseum.org/event-single/searsport-heritage-days-homecoming-model-display/
LOCATION:PMM Model Pond\, 2 Church St.\, Searsport\, ME\, 04974\, United States
CATEGORIES:Family Event
ATTACH;FMTTYPE=image/jpeg:https://penobscotmarinemuseum.org/wp-content/uploads/2018/03/8-4.jpg
ORGANIZER;CN="Penobscot Marine Museum":MAILTO:jganskop@pmm-maine.org
END:VEVENT
BEGIN:VEVENT
DTSTART;TZID=America/New_York:20180711T110000
DTEND;TZID=America/New_York:20180711T140000
DTSTAMP:20260421T215635
CREATED:20180329T114007Z
LAST-MODIFIED:20180709T172632Z
UID:10000090-1531306800-1531317600@penobscotmarinemuseum.org
SUMMARY:E.B. White’s Birthday and Stuart Little Model Race
DESCRIPTION:July 11; 11am-2pm\nE.B. White’s Birthday and Stuart Little Model Race\nModel Pond\nCost: Free with Museum Admission\nFree admission all day for children 17 and under. \nCelebrate E.B. White’s 119th birthday with us! There will be cake and a chance to make a clothespin Stuart Little and model boat to sail on our pond and take home afterwards. PMM is home to  E.B. White’s sailing dinghy the FAINT ENDEAVOR.
URL:https://penobscotmarinemuseum.org/event-single/e-b-whites-birthday-and-stuart-little-model-race/
LOCATION:PMM Model Pond\, 2 Church St.\, Searsport\, ME\, 04974\, United States
CATEGORIES:Family Event
ATTACH;FMTTYPE=image/jpeg:https://penobscotmarinemuseum.org/wp-content/uploads/2018/03/7-11.jpg
ORGANIZER;CN="Penobscot Marine Museum":MAILTO:jganskop@pmm-maine.org
END:VEVENT
BEGIN:VEVENT
DTSTART;TZID=America/New_York:20180704T110000
DTEND;TZID=America/New_York:20180704T140000
DTSTAMP:20260421T215635
CREATED:20180328T225002Z
LAST-MODIFIED:20180328T225002Z
UID:10000087-1530702000-1530712800@penobscotmarinemuseum.org
SUMMARY:Fourth of July Model Race
DESCRIPTION:July 4; 11am-2pm\nFourth of July Model Race\nModel Pond\nCost: Free with Museum Admission \nCelebrate Independence Day by bringing your Remote Control and Sailing Pond Models to our pond.  Pick up races with other models.
URL:https://penobscotmarinemuseum.org/event-single/fourth-of-july-model-race/
LOCATION:PMM Model Pond\, 2 Church St.\, Searsport\, ME\, 04974\, United States
CATEGORIES:Family Event
ATTACH;FMTTYPE=image/jpeg:https://penobscotmarinemuseum.org/wp-content/uploads/2018/03/7-4.jpg
END:VEVENT
BEGIN:VEVENT
DTSTART;TZID=America/New_York:20180623T110000
DTEND;TZID=America/New_York:20180623T140000
DTSTAMP:20260421T215635
CREATED:20180328T223650Z
LAST-MODIFIED:20180328T223650Z
UID:10000083-1529751600-1529762400@penobscotmarinemuseum.org
SUMMARY:Soling Remote Control Model Demonstration
DESCRIPTION:June 23; 11am-2pm\nSoling Remote Control Model Demonstration\nModel Pond\nCost: Free with Museum Admission \nThe Soling racing yacht is a popular one-design class.  This miniature version is one of the most popular classes and has the largest number of registered models within the American Model Yachting Association racing class system. \nPhoto by VYGOcommons
URL:https://penobscotmarinemuseum.org/event-single/soling-remote-control-model-demonstration/
LOCATION:PMM Model Pond\, 2 Church St.\, Searsport\, ME\, 04974\, United States
CATEGORIES:Demonstration
ATTACH;FMTTYPE=image/jpeg:https://penobscotmarinemuseum.org/wp-content/uploads/2018/03/6-23.jpg
ORGANIZER;CN="Penobscot Marine Museum":MAILTO:jganskop@pmm-maine.org
END:VEVENT
BEGIN:VEVENT
DTSTART;TZID=America/New_York:20180616T110000
DTEND;TZID=America/New_York:20180616T140000
DTSTAMP:20260421T215635
CREATED:20180328T201505Z
LAST-MODIFIED:20180329T141517Z
UID:10000221-1529146800-1529157600@penobscotmarinemuseum.org
SUMMARY:Father’s Day Model Race
DESCRIPTION:June 16; 11am-2pm\nFather’s Day Model Race\nModel Pond\nCost: Free with Museum Admission \nCelebrate Father’s Day by digging out your remote control or sailing pond model and take it for a spin on our model pond.  Pick up races with other families out for a day with good old Dad!
URL:https://penobscotmarinemuseum.org/event-single/fathers-day-model-race/
LOCATION:PMM Model Pond\, 2 Church St.\, Searsport\, ME\, 04974\, United States
CATEGORIES:Special Event
ATTACH;FMTTYPE=image/jpeg:https://penobscotmarinemuseum.org/wp-content/uploads/2018/03/6-16.jpg
ORGANIZER;CN="Penobscot Marine Museum":MAILTO:jganskop@pmm-maine.org
END:VEVENT
END:VCALENDAR