BEGIN:VCALENDAR
VERSION:2.0
PRODID:-//Penobscot Marine Museum - ECPv6.15.20//NONSGML v1.0//EN
CALSCALE:GREGORIAN
METHOD:PUBLISH
X-WR-CALNAME:Penobscot Marine Museum
X-ORIGINAL-URL:https://penobscotmarinemuseum.org
X-WR-CALDESC:Events for Penobscot Marine Museum
REFRESH-INTERVAL;VALUE=DURATION:PT1H
X-Robots-Tag:noindex
X-PUBLISHED-TTL:PT1H
BEGIN:VTIMEZONE
TZID:America/New_York
BEGIN:DAYLIGHT
TZOFFSETFROM:-0500
TZOFFSETTO:-0400
TZNAME:EDT
DTSTART:20220313T070000
END:DAYLIGHT
BEGIN:STANDARD
TZOFFSETFROM:-0400
TZOFFSETTO:-0500
TZNAME:EST
DTSTART:20221106T060000
END:STANDARD
BEGIN:DAYLIGHT
TZOFFSETFROM:-0500
TZOFFSETTO:-0400
TZNAME:EDT
DTSTART:20230312T070000
END:DAYLIGHT
BEGIN:STANDARD
TZOFFSETFROM:-0400
TZOFFSETTO:-0500
TZNAME:EST
DTSTART:20231105T060000
END:STANDARD
BEGIN:DAYLIGHT
TZOFFSETFROM:-0500
TZOFFSETTO:-0400
TZNAME:EDT
DTSTART:20240310T070000
END:DAYLIGHT
BEGIN:STANDARD
TZOFFSETFROM:-0400
TZOFFSETTO:-0500
TZNAME:EST
DTSTART:20241103T060000
END:STANDARD
END:VTIMEZONE
BEGIN:VEVENT
DTSTART;TZID=America/New_York:20231011T150000
DTEND;TZID=America/New_York:20231011T163000
DTSTAMP:20260421T075755
CREATED:20230830T201448Z
LAST-MODIFIED:20230830T201452Z
UID:10000435-1697036400-1697041800@penobscotmarinemuseum.org
SUMMARY:Sailors' Knots & Friendship Bracelets — Teen Club
DESCRIPTION:New at Penobscot Marine Museum! Get crafty with your fellow teens during weekly Wednesday sessions between September 20th and October 11th. We’ll have a variety of materials and instructions for sailors’ knots\, friendship bracelets\, and more! Come to learn new techniques or to share your skills. All supplies and light snacks are provided. Meet at the Museum Store at 40 East Main St.\, Searsport. \nThis event is for ages 12-18\nCost: $5/teen\, FREE for Members and Searsport & Stockton Springs residents
URL:https://penobscotmarinemuseum.org/event-single/sailors-knots-friendship-bracelets-teen-club-3/
LOCATION:PMM’s Museum Store\, 40 East Main Street\, Searsport\, 04974\, United States
ATTACH;FMTTYPE=image/png:https://penobscotmarinemuseum.org/wp-content/uploads/2023/08/sailors-knots-and-friendship-bracelets.png
END:VEVENT
BEGIN:VEVENT
DTSTART;TZID=America/New_York:20231004T150000
DTEND;TZID=America/New_York:20231004T163000
DTSTAMP:20260421T075755
CREATED:20230830T201317Z
LAST-MODIFIED:20230830T201324Z
UID:10000434-1696431600-1696437000@penobscotmarinemuseum.org
SUMMARY:Sailors' Knots & Friendship Bracelets — Teen Club
DESCRIPTION:New at Penobscot Marine Museum! Get crafty with your fellow teens during weekly Wednesday sessions between September 20th and October 11th. We’ll have a variety of materials and instructions for sailors’ knots\, friendship bracelets\, and more! Come to learn new techniques or to share your skills. All supplies and light snacks are provided. Meet at the Museum Store at 40 East Main St.\, Searsport. \nThis event is for ages 12-18\nCost: $5/teen\, FREE for Members and Searsport & Stockton Springs residents
URL:https://penobscotmarinemuseum.org/event-single/sailors-knots-friendship-bracelets-teen-club-2/
LOCATION:PMM’s Museum Store\, 40 East Main Street\, Searsport\, 04974\, United States
ATTACH;FMTTYPE=image/png:https://penobscotmarinemuseum.org/wp-content/uploads/2023/08/sailors-knots-and-friendship-bracelets.png
END:VEVENT
BEGIN:VEVENT
DTSTART;TZID=America/New_York:20230920T150000
DTEND;TZID=America/New_York:20230920T163000
DTSTAMP:20260421T075755
CREATED:20230830T200708Z
LAST-MODIFIED:20230830T201009Z
UID:10000432-1695222000-1695227400@penobscotmarinemuseum.org
SUMMARY:Sailors’ Knots & Friendship Bracelets — Teen Club
DESCRIPTION:New at Penobscot Marine Museum! Get crafty with your fellow teens during weekly Wednesday sessions between September 20th and October 11th. We’ll have a variety of materials and instructions for sailors’ knots\, friendship bracelets\, and more! Come to learn new techniques or to share your skills. All supplies and light snacks are provided. Meet at the Museum Store at 40 East Main St.\, Searsport. \nThis event is for ages 12-18\nCost: $5/teen\, FREE for Members and Searsport & Stockton Springs residents
URL:https://penobscotmarinemuseum.org/event-single/sailors-knots-friendship-bracelets-teen-club/
LOCATION:PMM’s Museum Store\, 40 East Main Street\, Searsport\, 04974\, United States
ATTACH;FMTTYPE=image/png:https://penobscotmarinemuseum.org/wp-content/uploads/2023/08/sailors-knots-and-friendship-bracelets.png
END:VEVENT
BEGIN:VEVENT
DTSTART;TZID=America/New_York:20230803T173000
DTEND;TZID=America/New_York:20230803T193000
DTSTAMP:20260421T075755
CREATED:20230712T205838Z
LAST-MODIFIED:20230729T120651Z
UID:10000429-1691083800-1691091000@penobscotmarinemuseum.org
SUMMARY:Book Signing with Susan Mara Bregman
DESCRIPTION:We are excited to partner with Anodyne Book Shop to host author Susan Mara Bregman for a signing of her new book\, Along Route 1: Maine\, New Hampshire\, and Massachusetts. \nPhotographer and writer\, Bregman tells the stories of what road trippers may encounter on their New England travels. Many of the photographs in the book are from the PMM photo collections.
URL:https://penobscotmarinemuseum.org/event-single/book-signing-with-susan-mara-bregman/
LOCATION:PMM’s Museum Store\, 40 East Main Street\, Searsport\, 04974\, United States
ATTACH;FMTTYPE=image/jpeg:https://penobscotmarinemuseum.org/wp-content/uploads/2023/07/Along-Route-1.jpg
END:VEVENT
BEGIN:VEVENT
DTSTART;TZID=America/New_York:20230727T173000
DTEND;TZID=America/New_York:20230727T193000
DTSTAMP:20260421T075755
CREATED:20230712T205615Z
LAST-MODIFIED:20230712T205655Z
UID:10000428-1690479000-1690486200@penobscotmarinemuseum.org
SUMMARY:Book Signing with Susan Tobey White
DESCRIPTION:We are excited to partner with Anodyne Book Shop to celebrate the release of Susan Tobey White’s new book\, Lobstering Women of Maine: Paintings and Stories of Women and Girls Who Fish the Maine Coast. Copies of the book will be available for purchase\, and Susan will be on hand to sign copies. \nSusan is a Belfast\, Maine\, artist and author who captures Maine’s lobster industry through her brightly colored paintings of lobster women at work. The book showcases the lobster industry\, explores Maine’s traditions and heritage\, and reveals the strength of women.
URL:https://penobscotmarinemuseum.org/event-single/book-signing-with-susan-tobey-white/
LOCATION:PMM’s Museum Store\, 40 East Main Street\, Searsport\, 04974\, United States
ATTACH;FMTTYPE=image/jpeg:https://penobscotmarinemuseum.org/wp-content/uploads/2023/07/Book-Signing.jpg
END:VEVENT
END:VCALENDAR