BEGIN:VCALENDAR
VERSION:2.0
PRODID:-//Penobscot Marine Museum - ECPv6.15.20//NONSGML v1.0//EN
CALSCALE:GREGORIAN
METHOD:PUBLISH
X-WR-CALNAME:Penobscot Marine Museum
X-ORIGINAL-URL:https://penobscotmarinemuseum.org
X-WR-CALDESC:Events for Penobscot Marine Museum
REFRESH-INTERVAL;VALUE=DURATION:PT1H
X-Robots-Tag:noindex
X-PUBLISHED-TTL:PT1H
BEGIN:VTIMEZONE
TZID:America/New_York
BEGIN:DAYLIGHT
TZOFFSETFROM:-0500
TZOFFSETTO:-0400
TZNAME:EDT
DTSTART:20180311T070000
END:DAYLIGHT
BEGIN:STANDARD
TZOFFSETFROM:-0400
TZOFFSETTO:-0500
TZNAME:EST
DTSTART:20181104T060000
END:STANDARD
BEGIN:DAYLIGHT
TZOFFSETFROM:-0500
TZOFFSETTO:-0400
TZNAME:EDT
DTSTART:20190310T070000
END:DAYLIGHT
BEGIN:STANDARD
TZOFFSETFROM:-0400
TZOFFSETTO:-0500
TZNAME:EST
DTSTART:20191103T060000
END:STANDARD
BEGIN:DAYLIGHT
TZOFFSETFROM:-0500
TZOFFSETTO:-0400
TZNAME:EDT
DTSTART:20200308T070000
END:DAYLIGHT
BEGIN:STANDARD
TZOFFSETFROM:-0400
TZOFFSETTO:-0500
TZNAME:EST
DTSTART:20201101T060000
END:STANDARD
END:VTIMEZONE
BEGIN:VEVENT
DTSTART;TZID=America/New_York:20190302T140000
DTEND;TZID=America/New_York:20190302T160000
DTSTAMP:20260421T221050
CREATED:20190117T194720Z
LAST-MODIFIED:20190225T162602Z
UID:10000112-1551535200-1551542400@penobscotmarinemuseum.org
SUMMARY:Who were the Hichborns?
DESCRIPTION:Saturday\, March 2\n2:00-4:00 pm\n$40 per person\nThe Hichborn at 10 Church Street\, Stockton Springs \nLearn about the Hichborn family and their impact on Penobscot Bay with guest speakers and a photography display. Photos will be part of a silent auction. Appetizers and drinks provided by The Hichborn. All proceeds to benefit the Penobscot Marine Museum.\nThere are a limited number of tickets available. Reservations are required. For more information or to make a reservation\, please call Penobscot Marine Museum at 207-548-2529. \nBuy Tickets Online
URL:https://penobscotmarinemuseum.org/event-single/who-were-the-hichborns/
LOCATION:The Hichborn\, 10 Church St.\, Stockton Springs\, ME\, 04981
CATEGORIES:Special Event
ATTACH;FMTTYPE=image/jpeg:https://penobscotmarinemuseum.org/wp-content/uploads/2019/01/Hichborn-Benefit-2019.jpg
END:VEVENT
END:VCALENDAR