BEGIN:VCALENDAR
VERSION:2.0
PRODID:-//Penobscot Marine Museum - ECPv6.15.20//NONSGML v1.0//EN
CALSCALE:GREGORIAN
METHOD:PUBLISH
X-ORIGINAL-URL:https://penobscotmarinemuseum.org
X-WR-CALDESC:Events for Penobscot Marine Museum
REFRESH-INTERVAL;VALUE=DURATION:PT1H
X-Robots-Tag:noindex
X-PUBLISHED-TTL:PT1H
BEGIN:VTIMEZONE
TZID:America/New_York
BEGIN:DAYLIGHT
TZOFFSETFROM:-0500
TZOFFSETTO:-0400
TZNAME:EDT
DTSTART:20160313T070000
END:DAYLIGHT
BEGIN:STANDARD
TZOFFSETFROM:-0400
TZOFFSETTO:-0500
TZNAME:EST
DTSTART:20161106T060000
END:STANDARD
BEGIN:DAYLIGHT
TZOFFSETFROM:-0500
TZOFFSETTO:-0400
TZNAME:EDT
DTSTART:20170312T070000
END:DAYLIGHT
BEGIN:STANDARD
TZOFFSETFROM:-0400
TZOFFSETTO:-0500
TZNAME:EST
DTSTART:20171105T060000
END:STANDARD
BEGIN:DAYLIGHT
TZOFFSETFROM:-0500
TZOFFSETTO:-0400
TZNAME:EDT
DTSTART:20180311T070000
END:DAYLIGHT
BEGIN:STANDARD
TZOFFSETFROM:-0400
TZOFFSETTO:-0500
TZNAME:EST
DTSTART:20181104T060000
END:STANDARD
END:VTIMEZONE
BEGIN:VEVENT
DTSTART;TZID=America/New_York:20170504T180000
DTEND;TZID=America/New_York:20170504T203000
DTSTAMP:20260421T184313
CREATED:20170421T182412Z
LAST-MODIFIED:20170421T182412Z
UID:10000061-1493920800-1493929800@penobscotmarinemuseum.org
SUMMARY:Ocean Frontiers III Film & Panel Discussion
DESCRIPTION:PMM Co-Hosted Event \nOcean Frontiers III Film & Panel Discussion\nWhen: Thur. May 4 – Reception 6pm · Film 7pm · Panel/Q&A 8pm\nWhere: The Strand Theatre\, 345 Main St.\, Rockland\, ME 04841\nFree admission & refreshments\nRSVP to save your seat: http://bit.ly/OF3-Strand\n \nPanel:\nMelissa Gates – Northeast Regional Manager\, Surfrider Foundation\nRichard Nelson – Commercial Fisherman\, Captain F/V Pescadero\nJohn Van Dis – Middle School Science Teacher\, Edna Drinkwater School\nModerator: Nick Battista – Marine Programs Director\, Island Institute \nPresented by: Island Institute and Green Fire Productions\, with Belfast Bay Watershed Coalition\, Conservation Law Foundation\, Friends of Sears Island\, Herring Gut Learning Center\, Hurricane Island Foundation\, Islesboro Islands Trust\, Maine Coast Fishermen’s Association\, Maine Island Trail Association\, The Nature Conservancy\, Penobscot Marine Museum\, Sierra Club Maine Surfrider Foundation\, and the University of Maine Darling Marine Center. \nOcean Frontiers III is a powerful film that chronicles efforts to plan for the healthy\, safe\, and sustainable future of our oceans. It explores the intersection of national security\, maritime commerce\, fishing\, and recreation\, plus expanding industries such as offshore wind energy and aquaculture\, coupled with scientific discovery\, and tells the story of how ocean planning helps us manage and balance all the uses of our ocean to keep it thriving for generations to come. \nThe evening will begin with a light reception\, followed by the film and post-film Q&A with a panel of local experts.
URL:https://penobscotmarinemuseum.org/event-single/ocean-frontiers-iii-film-panel-discussion/
LOCATION:The Strand Theatre\, 345 Main St\, Rockland\, ME\, 04841\, United States
CATEGORIES:Special Event
ATTACH;FMTTYPE=image/jpeg:https://penobscotmarinemuseum.org/wp-content/uploads/2017/04/Ocean-Frontiers-III-2017.jpg
ORGANIZER;CN="Penobscot Marine Museum":MAILTO:jganskop@pmm-maine.org
END:VEVENT
END:VCALENDAR